BEGIN:VCALENDAR
VERSION:2.0
PRODID:-//L’Arche North Carolina - ECPv6.15.20//NONSGML v1.0//EN
CALSCALE:GREGORIAN
METHOD:PUBLISH
X-WR-CALNAME:L’Arche North Carolina
X-ORIGINAL-URL:https://larchenc.org
X-WR-CALDESC:Events for L’Arche North Carolina
REFRESH-INTERVAL;VALUE=DURATION:PT1H
X-Robots-Tag:noindex
X-PUBLISHED-TTL:PT1H
BEGIN:VTIMEZONE
TZID:America/New_York
BEGIN:DAYLIGHT
TZOFFSETFROM:-0500
TZOFFSETTO:-0400
TZNAME:EDT
DTSTART:20240310T070000
END:DAYLIGHT
BEGIN:STANDARD
TZOFFSETFROM:-0400
TZOFFSETTO:-0500
TZNAME:EST
DTSTART:20241103T060000
END:STANDARD
BEGIN:DAYLIGHT
TZOFFSETFROM:-0500
TZOFFSETTO:-0400
TZNAME:EDT
DTSTART:20250309T070000
END:DAYLIGHT
BEGIN:STANDARD
TZOFFSETFROM:-0400
TZOFFSETTO:-0500
TZNAME:EST
DTSTART:20251102T060000
END:STANDARD
BEGIN:DAYLIGHT
TZOFFSETFROM:-0500
TZOFFSETTO:-0400
TZNAME:EDT
DTSTART:20260308T070000
END:DAYLIGHT
BEGIN:STANDARD
TZOFFSETFROM:-0400
TZOFFSETTO:-0500
TZNAME:EST
DTSTART:20261101T060000
END:STANDARD
END:VTIMEZONE
BEGIN:VEVENT
DTSTART;TZID=America/New_York:20251007T180000
DTEND;TZID=America/New_York:20251007T190000
DTSTAMP:20260424T033409
CREATED:20250909T165845Z
LAST-MODIFIED:20250909T165845Z
UID:10000465-1759860000-1759863600@larchenc.org
SUMMARY:Charitable Giving & Your Financial Strategy
DESCRIPTION:Join us for a financial seminar with Edward Jones Financial Advisor Michael Vuke! Learn how to optimize your giving and have your charitable giving questions answered by an expert! \nThe purpose of this webinar is to share an overview about charitable giving and how it ties into your financial strategies. You will learn how charitable giving can be part of a long-term financial strategy\, including potential tax benefits and information about advanced giving channels. \nRegister with this link to join the webinar! Please sign up in advance! \nhttps://edwardjones.zoom.us/webinar/register/WN_IjJ5FbAeQv6fPTWuMxKSdQ
URL:https://larchenc.org/event/charitable-giving-your-financial-strategy/
LOCATION:Online: Zoom
ATTACH;FMTTYPE=image/png:https://larchenc.org/wp-content/uploads/2025/09/Charitable-Giving-Your-Financail-Strategy-Instagram-Post-45.png
ORGANIZER;CN="L'Arche NC":MAILTO:info@larchenc.org
END:VEVENT
END:VCALENDAR