BEGIN:VCALENDAR
VERSION:2.0
PRODID:-//L’Arche North Carolina - ECPv6.15.20//NONSGML v1.0//EN
CALSCALE:GREGORIAN
METHOD:PUBLISH
X-WR-CALNAME:L’Arche North Carolina
X-ORIGINAL-URL:https://larchenc.org
X-WR-CALDESC:Events for L’Arche North Carolina
REFRESH-INTERVAL;VALUE=DURATION:PT1H
X-Robots-Tag:noindex
X-PUBLISHED-TTL:PT1H
BEGIN:VTIMEZONE
TZID:America/New_York
BEGIN:DAYLIGHT
TZOFFSETFROM:-0500
TZOFFSETTO:-0400
TZNAME:EDT
DTSTART:20230312T070000
END:DAYLIGHT
BEGIN:STANDARD
TZOFFSETFROM:-0400
TZOFFSETTO:-0500
TZNAME:EST
DTSTART:20231105T060000
END:STANDARD
BEGIN:DAYLIGHT
TZOFFSETFROM:-0500
TZOFFSETTO:-0400
TZNAME:EDT
DTSTART:20240310T070000
END:DAYLIGHT
BEGIN:STANDARD
TZOFFSETFROM:-0400
TZOFFSETTO:-0500
TZNAME:EST
DTSTART:20241103T060000
END:STANDARD
BEGIN:DAYLIGHT
TZOFFSETFROM:-0500
TZOFFSETTO:-0400
TZNAME:EDT
DTSTART:20250309T070000
END:DAYLIGHT
BEGIN:STANDARD
TZOFFSETFROM:-0400
TZOFFSETTO:-0500
TZNAME:EST
DTSTART:20251102T060000
END:STANDARD
END:VTIMEZONE
BEGIN:VEVENT
DTSTART;TZID=America/New_York:20241109T103000
DTEND;TZID=America/New_York:20241109T123000
DTSTAMP:20260424T193527
CREATED:20240912T150952Z
LAST-MODIFIED:20241024T153525Z
UID:10000382-1731148200-1731155400@larchenc.org
SUMMARY:Brunch & Belonging
DESCRIPTION:Join us for Brunch & Belonging: a Taste of Togetherness with L’Arche North Carolina\, our signature fundraiser that celebrates the spirit of community and connection. Gather with friends\, family\, and neighbors to enjoy a delicious brunch\, uplifting stories\, and opportunities to engage with the L’Arche community. This event highlights the beauty of inclusion\, where everyone is welcome\, valued\, and embraced just as they are. \nTicket Pricing: \n\nAdults:\n\nEarly Bird (until October 10\, 2024): $30\nAfter October 10: $40\n\n\nChildren 12 and under:\n\nEarly Bird (until October 10\, 2024): $15\nAfter October 10: $20\n\n\n\n\n\nMenu Includes: \n\nMimosas\nShrimp and grits or savory vegetarian grits\nQuiche\nFresh fruits\nAnd more!\n\nSupport raised through Brunch & Belonging will directly support L’Arche North Carolina’s growing community. As we continue to expand and welcome new members\, these contributions will provide the resources needed to create inclusive spaces and foster meaningful connections among people of all abilities. This event plays a key role in helping L’Arche NC grow and thrive\, ensuring everyone has a place where they are valued and belong. \n\n\nPurchase Your Ticket
URL:https://larchenc.org/event/brunch/
LOCATION:The Matthews House\, 317 W Chatham St.\, Cary\, North Carolina\, 27511
ATTACH;FMTTYPE=image/png:https://larchenc.org/wp-content/uploads/2024/09/Brunch-instagram.png
ORGANIZER;CN="L'Arche NC":MAILTO:info@larchenc.org
END:VEVENT
END:VCALENDAR