BEGIN:VCALENDAR
VERSION:2.0
PRODID:-//L’Arche North Carolina - ECPv6.15.20//NONSGML v1.0//EN
CALSCALE:GREGORIAN
METHOD:PUBLISH
X-ORIGINAL-URL:https://larchenc.org
X-WR-CALDESC:Events for L’Arche North Carolina
REFRESH-INTERVAL;VALUE=DURATION:PT1H
X-Robots-Tag:noindex
X-PUBLISHED-TTL:PT1H
BEGIN:VTIMEZONE
TZID:America/New_York
BEGIN:DAYLIGHT
TZOFFSETFROM:-0500
TZOFFSETTO:-0400
TZNAME:EDT
DTSTART:20230312T070000
END:DAYLIGHT
BEGIN:STANDARD
TZOFFSETFROM:-0400
TZOFFSETTO:-0500
TZNAME:EST
DTSTART:20231105T060000
END:STANDARD
BEGIN:DAYLIGHT
TZOFFSETFROM:-0500
TZOFFSETTO:-0400
TZNAME:EDT
DTSTART:20240310T070000
END:DAYLIGHT
BEGIN:STANDARD
TZOFFSETFROM:-0400
TZOFFSETTO:-0500
TZNAME:EST
DTSTART:20241103T060000
END:STANDARD
BEGIN:DAYLIGHT
TZOFFSETFROM:-0500
TZOFFSETTO:-0400
TZNAME:EDT
DTSTART:20250309T070000
END:DAYLIGHT
BEGIN:STANDARD
TZOFFSETFROM:-0400
TZOFFSETTO:-0500
TZNAME:EST
DTSTART:20251102T060000
END:STANDARD
END:VTIMEZONE
BEGIN:VEVENT
DTSTART;TZID=America/New_York:20240806T180000
DTEND;TZID=America/New_York:20240806T190000
DTSTAMP:20260425T100224
CREATED:20240723T103433Z
LAST-MODIFIED:20240806T133227Z
UID:10000374-1722967200-1722970800@larchenc.org
SUMMARY:Community Dinner & Bingo
DESCRIPTION:Hosted by L’ Arche NC & Bethany United Methodist Church. \nJoin us for a community dinner at Bethany UMC (2903 Guess Rd. Durham\, NC 27705)! \n\nEveryone of all faiths and abilities is welcome to attend\, whether for the whole event or to drop by! \nBethany UMC will be serving hot dogs and other summer treats! There will be vegetarian and gluten-free options.\n\nAfter we enjoy our dinner together\, we will play picture bingo! This fun and accessible format of Bingo is summer-themed. Prizes for each round include gift cards.\n\nEvent takes place on August 6th\, 6:00pm to 7:000pm.\nAddress: 2903 Guess Rd. Durham\, NC 27705.\n\nPLEASE RSVP: https://forms.gle/wNbGT5odaUcesst58
URL:https://larchenc.org/event/dinner-bingo/
LOCATION:bethany United Methodist Church\, 2809 Guess Rd\, Durham\, NC\, 27701\, United States
CATEGORIES:Community Event
ATTACH;FMTTYPE=image/png:https://larchenc.org/wp-content/uploads/2024/07/August-Bingo.png
ORGANIZER;CN="L'Arche NC":MAILTO:info@larchenc.org
END:VEVENT
END:VCALENDAR