BEGIN:VCALENDAR
VERSION:2.0
PRODID:-//L’Arche North Carolina - ECPv6.15.20//NONSGML v1.0//EN
CALSCALE:GREGORIAN
METHOD:PUBLISH
X-ORIGINAL-URL:https://larchenc.org
X-WR-CALDESC:Events for L’Arche North Carolina
REFRESH-INTERVAL;VALUE=DURATION:PT1H
X-Robots-Tag:noindex
X-PUBLISHED-TTL:PT1H
BEGIN:VTIMEZONE
TZID:America/New_York
BEGIN:DAYLIGHT
TZOFFSETFROM:-0500
TZOFFSETTO:-0400
TZNAME:EDT
DTSTART:20230312T070000
END:DAYLIGHT
BEGIN:STANDARD
TZOFFSETFROM:-0400
TZOFFSETTO:-0500
TZNAME:EST
DTSTART:20231105T060000
END:STANDARD
BEGIN:DAYLIGHT
TZOFFSETFROM:-0500
TZOFFSETTO:-0400
TZNAME:EDT
DTSTART:20240310T070000
END:DAYLIGHT
BEGIN:STANDARD
TZOFFSETFROM:-0400
TZOFFSETTO:-0500
TZNAME:EST
DTSTART:20241103T060000
END:STANDARD
BEGIN:DAYLIGHT
TZOFFSETFROM:-0500
TZOFFSETTO:-0400
TZNAME:EDT
DTSTART:20250309T070000
END:DAYLIGHT
BEGIN:STANDARD
TZOFFSETFROM:-0400
TZOFFSETTO:-0500
TZNAME:EST
DTSTART:20251102T060000
END:STANDARD
END:VTIMEZONE
BEGIN:VEVENT
DTSTART;TZID=America/New_York:20240709T140000
DTEND;TZID=America/New_York:20240709T150000
DTSTAMP:20260425T114811
CREATED:20240617T125101Z
LAST-MODIFIED:20240617T125101Z
UID:10000256-1720533600-1720537200@larchenc.org
SUMMARY:Jam Together
DESCRIPTION:L’Arche NC is proud to present our newest event: Jam Together! 🎶 \nLed by Chris Hendricks and Lee Anderson\, Jam Together focuses on creating and appreciating sound\, whether it’s singing together or playing instruments! So whether you’re a maker of music or just an appreciator – this event is for you! \nJoin us\, July 9th\, from 2-3PM\, at the Bulla Center – 301 West Jones St\, Raleigh NC. \nSign up here!
URL:https://larchenc.org/event/jam-together-3/
LOCATION:The Bulla Center\, 301 W Jones St\, Raleigh\, 27603\, United States
CATEGORIES:Community Event
ATTACH;FMTTYPE=image/png:https://larchenc.org/wp-content/uploads/2024/05/June-Website-Images2.png
ORGANIZER;CN="L'Arche NC":MAILTO:info@larchenc.org
END:VEVENT
BEGIN:VEVENT
DTSTART;TZID=America/New_York:20240710T140000
DTEND;TZID=America/New_York:20240710T150000
DTSTAMP:20260425T114811
CREATED:20240709T202649Z
LAST-MODIFIED:20240826T001748Z
UID:10000263-1720620000-1720623600@larchenc.org
SUMMARY:Play Together
DESCRIPTION:This Wednesday\, July 10th\, we’ll be having a round of Play Together on Zoom from 2-3PM EST. We’ll be playing an exciting game of Trivia\, with three rounds of eight questions each! \nEach round will have a winner\, and the winner will receive a $10 gift card. \nEveryone is welcome to join! \nSign up here! \n 
URL:https://larchenc.org/event/play-together-6/
LOCATION:Online: Zoom
CATEGORIES:Community Event,Play Together
ATTACH;FMTTYPE=image/png:https://larchenc.org/wp-content/uploads/2023/12/January-Events-3.png
ORGANIZER;CN="L'Arche NC":MAILTO:info@larchenc.org
END:VEVENT
END:VCALENDAR