BEGIN:VCALENDAR
VERSION:2.0
PRODID:-//L’Arche North Carolina - ECPv6.15.20//NONSGML v1.0//EN
CALSCALE:GREGORIAN
METHOD:PUBLISH
X-WR-CALNAME:L’Arche North Carolina
X-ORIGINAL-URL:https://larchenc.org
X-WR-CALDESC:Events for L’Arche North Carolina
REFRESH-INTERVAL;VALUE=DURATION:PT1H
X-Robots-Tag:noindex
X-PUBLISHED-TTL:PT1H
BEGIN:VTIMEZONE
TZID:America/New_York
BEGIN:DAYLIGHT
TZOFFSETFROM:-0500
TZOFFSETTO:-0400
TZNAME:EDT
DTSTART:20230312T070000
END:DAYLIGHT
BEGIN:STANDARD
TZOFFSETFROM:-0400
TZOFFSETTO:-0500
TZNAME:EST
DTSTART:20231105T060000
END:STANDARD
BEGIN:DAYLIGHT
TZOFFSETFROM:-0500
TZOFFSETTO:-0400
TZNAME:EDT
DTSTART:20240310T070000
END:DAYLIGHT
BEGIN:STANDARD
TZOFFSETFROM:-0400
TZOFFSETTO:-0500
TZNAME:EST
DTSTART:20241103T060000
END:STANDARD
BEGIN:DAYLIGHT
TZOFFSETFROM:-0500
TZOFFSETTO:-0400
TZNAME:EDT
DTSTART:20250309T070000
END:DAYLIGHT
BEGIN:STANDARD
TZOFFSETFROM:-0400
TZOFFSETTO:-0500
TZNAME:EST
DTSTART:20251102T060000
END:STANDARD
END:VTIMEZONE
BEGIN:VEVENT
DTSTART;TZID=America/New_York:20240522T103000
DTEND;TZID=America/New_York:20240522T123000
DTSTAMP:20260425T100201
CREATED:20240825T202850Z
LAST-MODIFIED:20240825T202909Z
UID:10000238-1716373800-1716381000@larchenc.org
SUMMARY:Paint Day at L'Arche NC!
DESCRIPTION:L’Arche North Carolina is gearing up to paint our new house\, and we need your help to make it a vibrant home for our community members! Join us as we roll up our sleeves\, grab some paintbrushes\, and transform this space into a place of warmth and welcome. No painting experience necessary—just bring your creativity and enthusiasm! Together\, let’s add a splash of color and a whole lot of love to our new home. Sign up today to be a part of this exciting project! \n\nIf you have a step ladder or any painting tools\, please bring them with you.\n\nAddress will be emailed to those who sign-up!\n\nSign up here!
URL:https://larchenc.org/event/paint-day-at-larche-nc-2/
ATTACH;FMTTYPE=image/png:https://larchenc.org/wp-content/uploads/2024/05/Untitled-design18.png
ORGANIZER;CN="L'Arche NC":MAILTO:info@larchenc.org
END:VEVENT
BEGIN:VEVENT
DTSTART;TZID=America/New_York:20240522T140000
DTEND;TZID=America/New_York:20240522T160000
DTSTAMP:20260425T100201
CREATED:20240506T140332Z
LAST-MODIFIED:20240825T203007Z
UID:10000239-1716386400-1716393600@larchenc.org
SUMMARY:Paint Day at L'Arche NC!
DESCRIPTION:L’Arche North Carolina is gearing up to paint our new house\, and we need your help to make it a vibrant home for our community members! Join us as we roll up our sleeves\, grab some paintbrushes\, and transform this space into a place of warmth and welcome. No painting experience necessary—just bring your creativity and enthusiasm! Together\, let’s add a splash of color and a whole lot of love to our new home. Sign up today to be a part of this exciting project! \n\nIf you have a step ladder or any painting tools\, please bring them with you.\n\nAddress will be emailed to those who sign-up!\n\nSign up here!
URL:https://larchenc.org/event/paint-day-at-larche-nc/2024-05-22/
ATTACH;FMTTYPE=image/png:https://larchenc.org/wp-content/uploads/2024/05/Untitled-design18.png
ORGANIZER;CN="L'Arche NC":MAILTO:info@larchenc.org
END:VEVENT
BEGIN:VEVENT
DTSTART;TZID=America/New_York:20240523T140000
DTEND;TZID=America/New_York:20240523T160000
DTSTAMP:20260425T100201
CREATED:20240408T171627Z
LAST-MODIFIED:20240422T195125Z
UID:10000233-1716472800-1716480000@larchenc.org
SUMMARY:Craft Together
DESCRIPTION:You’re invited to join new friends and familiar faces at Craft Together 🎨! All supplies are provided. \nJoin us at The Bulla Center  (301 West Jones St\, Raleigh NC) for an afternoon of craft and fellowship. \nWhat to expect: \n1.  We first gather around tables and introduce ourselves. We then ask a get-to-know-you “This or That” question\, such as “Do you like Salty or Savory?” or “Do you prefer the mountains or the beach?”🤔 \n2. Next\, we review the craft we are making for the day. ✅ \n3. We craft together\, following instructions\, but still putting our own spin on it. \n4. We present our designs\, and talk about them. \n5. We clean up together and chat about the new things in our life! \nSign up form here!\n \nCurrently\, our events and programs are free. If you’d like to donate to make these opportunities more sustainable and available\, please visit larchenc.org/give. We greatly appreciate your contribution!
URL:https://larchenc.org/event/craft-together-4/
CATEGORIES:Community Event
ATTACH;FMTTYPE=image/png:https://larchenc.org/wp-content/uploads/2024/03/default-event-images-for-website7.png
ORGANIZER;CN="L'Arche NC":MAILTO:info@larchenc.org
END:VEVENT
END:VCALENDAR