BEGIN:VCALENDAR
VERSION:2.0
PRODID:-//L’Arche North Carolina - ECPv6.15.20//NONSGML v1.0//EN
CALSCALE:GREGORIAN
METHOD:PUBLISH
X-ORIGINAL-URL:https://larchenc.org
X-WR-CALDESC:Events for L’Arche North Carolina
REFRESH-INTERVAL;VALUE=DURATION:PT1H
X-Robots-Tag:noindex
X-PUBLISHED-TTL:PT1H
BEGIN:VTIMEZONE
TZID:America/New_York
BEGIN:DAYLIGHT
TZOFFSETFROM:-0500
TZOFFSETTO:-0400
TZNAME:EDT
DTSTART:20230312T070000
END:DAYLIGHT
BEGIN:STANDARD
TZOFFSETFROM:-0400
TZOFFSETTO:-0500
TZNAME:EST
DTSTART:20231105T060000
END:STANDARD
BEGIN:DAYLIGHT
TZOFFSETFROM:-0500
TZOFFSETTO:-0400
TZNAME:EDT
DTSTART:20240310T070000
END:DAYLIGHT
BEGIN:STANDARD
TZOFFSETFROM:-0400
TZOFFSETTO:-0500
TZNAME:EST
DTSTART:20241103T060000
END:STANDARD
BEGIN:DAYLIGHT
TZOFFSETFROM:-0500
TZOFFSETTO:-0400
TZNAME:EDT
DTSTART:20250309T070000
END:DAYLIGHT
BEGIN:STANDARD
TZOFFSETFROM:-0400
TZOFFSETTO:-0500
TZNAME:EST
DTSTART:20251102T060000
END:STANDARD
END:VTIMEZONE
BEGIN:VEVENT
DTSTART;TZID=America/New_York:20240505T150000
DTEND;TZID=America/New_York:20240505T163000
DTSTAMP:20260425T100156
CREATED:20240416T191627Z
LAST-MODIFIED:20240430T190553Z
UID:10000236-1714921200-1714926600@larchenc.org
SUMMARY:Art Journey - Sunday Meet Up!
DESCRIPTION:Discover your new favorite masterpiece with L’Arche NC! \nThis Sunday\, we’ll be going on an art journey at the North Carolina Museum of Art\, 2110 Blue Ridge Road\, Raleigh NC. Explores acres and acres of nature\, interspersed with unique art pieces\, each more exciting than the last! And all for FREE! So let’s do it together\, and have a great weekend! \nSign up here! \nExact meet-up location details coming soon.
URL:https://larchenc.org/event/art-walk-sunday-meet-up/
ATTACH;FMTTYPE=image/jpeg:https://larchenc.org/wp-content/uploads/2024/04/art-park.jpg
ORGANIZER;CN="L'Arche NC":MAILTO:info@larchenc.org
END:VEVENT
BEGIN:VEVENT
DTSTART;TZID=America/New_York:20240508T140000
DTEND;TZID=America/New_York:20240508T150000
DTSTAMP:20260425T100156
CREATED:20240408T165808Z
LAST-MODIFIED:20240408T165808Z
UID:10000230-1715176800-1715180400@larchenc.org
SUMMARY:Play Together
DESCRIPTION:You’re invited to join new friends and familiar faces at Play Together. \nThis event is a VIRTUAL event! This means you must join virtually through Zoom. \nWhat to expect during this afternoon time of fun and fellowship: \n1. We first take some time to introduce ourselves. \n2. Next\, we go over the rules of the game. ✅ \n3. Then we play the game together\, completing round after round\, until a winner is announced! There will be multiple winners. \nWe ask everyone to please RSVP so that we know who’s coming to the event. \nSign up here!\n \nMeeting starts at 2PM\, May 8th! \nCurrently\, our events and programs are free. If you’d like to donate to make these opportunities more sustainable and available\, please visit larchenc.org/give. We greatly appreciate your contribution!
URL:https://larchenc.org/event/play-together-4/
CATEGORIES:Community Event
ATTACH;FMTTYPE=image/png:https://larchenc.org/wp-content/uploads/2024/03/default-event-images-for-website4.png
ORGANIZER;CN="L'Arche NC":MAILTO:info@larchenc.org
END:VEVENT
BEGIN:VEVENT
DTSTART;TZID=America/New_York:20240508T183000
DTEND;TZID=America/New_York:20240508T200000
DTSTAMP:20260425T100156
CREATED:20240416T132233Z
LAST-MODIFIED:20240429T191217Z
UID:10000237-1715193000-1715198400@larchenc.org
SUMMARY:Panel Event: Disability & Ableism
DESCRIPTION:Join us for a panel discussion on ableism\, co-hosted by L’Arche North Carolina and Reality Ministries. Our panelists will share their experiences and insights\, illuminating the impact of ableism in our society. \nWhether you’re new to the topic or deeply engaged\, this event will broaden your perspective and inspire action toward a more inclusive world. Let’s confront ableism and foster a society where everyone is valued and respected! \nRegister in advance for the Zoom event here!
URL:https://larchenc.org/event/panel-event-disability-ableism/
LOCATION:Online: Zoom
CATEGORIES:Community Event,Learn Together
ATTACH;FMTTYPE=image/png:https://larchenc.org/wp-content/uploads/2024/04/bright-da.png
ORGANIZER;CN="L'Arche NC":MAILTO:info@larchenc.org
END:VEVENT
BEGIN:VEVENT
DTSTART;TZID=America/New_York:20240509T140000
DTEND;TZID=America/New_York:20240509T160000
DTSTAMP:20260425T100156
CREATED:20240408T170024Z
LAST-MODIFIED:20240425T193747Z
UID:10000231-1715263200-1715270400@larchenc.org
SUMMARY:Cook Together
DESCRIPTION:You’re invited to join new friends and familiar faces at Cook Together 🍽️! Join us at The Bulla Center  (301 West Jones St\, Raleigh NC) for an afternoon of food and fellowship. We’ll be making our own mocktails\, and participating in an open-mic event! \nParticipating in our Open Mic event is optional\, but highly encouraged! Bring something to read\, preform\, or talk about! Anything is welcome! \nWhat to expect: \n1.  We first gather around tables and introduce ourselves. We then ask a get-to-know-you “This or That” question\, such as “Do you like Salty or Savory?” or “Do you prefer the mountains or the beach?”🤔 \n2. Next\, we review the recipe we are making for the day. ✅ \n3. We create the recipe together in groups\, following the step-by-step directions 🔢(No cooking experience is needed to join us ). \n4. We clean up together and celebrate any exciting news! 🎉 \nSign up form here! \nCurrently\, our events and programs are free. If you’d like to donate to make these opportunities more sustainable and available\, please visit larchenc.org/give. We greatly appreciate your contribution!
URL:https://larchenc.org/event/cook-together-6/
CATEGORIES:Community Event
ATTACH;FMTTYPE=image/png:https://larchenc.org/wp-content/uploads/2024/03/default-event-images-for-website3.png
ORGANIZER;CN="L'Arche NC":MAILTO:info@larchenc.org
END:VEVENT
END:VCALENDAR