BEGIN:VCALENDAR
VERSION:2.0
PRODID:-//L’Arche North Carolina - ECPv6.15.20//NONSGML v1.0//EN
CALSCALE:GREGORIAN
METHOD:PUBLISH
X-ORIGINAL-URL:https://larchenc.org
X-WR-CALDESC:Events for L’Arche North Carolina
REFRESH-INTERVAL;VALUE=DURATION:PT1H
X-Robots-Tag:noindex
X-PUBLISHED-TTL:PT1H
BEGIN:VTIMEZONE
TZID:America/New_York
BEGIN:DAYLIGHT
TZOFFSETFROM:-0500
TZOFFSETTO:-0400
TZNAME:EDT
DTSTART:20230312T070000
END:DAYLIGHT
BEGIN:STANDARD
TZOFFSETFROM:-0400
TZOFFSETTO:-0500
TZNAME:EST
DTSTART:20231105T060000
END:STANDARD
BEGIN:DAYLIGHT
TZOFFSETFROM:-0500
TZOFFSETTO:-0400
TZNAME:EDT
DTSTART:20240310T070000
END:DAYLIGHT
BEGIN:STANDARD
TZOFFSETFROM:-0400
TZOFFSETTO:-0500
TZNAME:EST
DTSTART:20241103T060000
END:STANDARD
BEGIN:DAYLIGHT
TZOFFSETFROM:-0500
TZOFFSETTO:-0400
TZNAME:EDT
DTSTART:20250309T070000
END:DAYLIGHT
BEGIN:STANDARD
TZOFFSETFROM:-0400
TZOFFSETTO:-0500
TZNAME:EST
DTSTART:20251102T060000
END:STANDARD
END:VTIMEZONE
BEGIN:VEVENT
DTSTART;TZID=America/New_York:20240326T140000
DTEND;TZID=America/New_York:20240326T160000
DTSTAMP:20260425T114803
CREATED:20240212T173342Z
LAST-MODIFIED:20240212T190159Z
UID:10000215-1711461600-1711468800@larchenc.org
SUMMARY:Serve Together: Birthday Kits
DESCRIPTION:Join us for our newest event: “Serve Together” ! During “Serve Together”\, we work on projects to support local non-profits and service organizations – from blankets and dog treats to luminaries 🕯️\, we will try our best to give back to the community! \nFor our third Serve Together event\, we will be preparing birthday kits! If you can\, please bring the supplies listed below: \n\n9×13 disposable aluminum foil pan (lids encouraged)\nBoxed cake mix (any flavor)\nTubs of frosting (any flavor)\nSprinkles or toppings\nCandles\n1 Can of Sprite / Lemon-Lime Soda\n\nOptional items: \n\nStationary for birthday notes\nParty supplies: balloons\, streamers\, stickers\, etc.\n\nJoin us at The Bulla Center  (301 West Jones St\, Raleigh NC) for an afternoon of service and fellowship. \nWhat to expect: \n1.  We first gather around tables and introduce ourselves. We then ask a get-to-know-you “This or That” question\, such as “Do you like Salty or Savory?” or “Do you prefer the mountains or the beach?”🤔 \n2. Next\, we review the project we are making for the day. ✅ \n3. We create the project together in groups\, following the step-by-step directions 🔢 (No prior experience is needed to join us). \n4. If we get finished early\, we take a break to play games together. 🎲 \n5. We clean up together and celebrate any exciting news! 🎉 \nSign up form here!
URL:https://larchenc.org/event/serve-together-birthday-kits/
LOCATION:The Bulla Center\, 301 W Jones St\, Raleigh\, 27603\, United States
CATEGORIES:Community Event
ATTACH;FMTTYPE=image/png:https://larchenc.org/wp-content/uploads/2024/02/March-Images7.png
ORGANIZER;CN="L'Arche NC":MAILTO:info@larchenc.org
END:VEVENT
BEGIN:VEVENT
DTSTART;TZID=America/New_York:20240327T190000
DTEND;TZID=America/New_York:20240327T200000
DTSTAMP:20260425T114803
CREATED:20240205T134800Z
LAST-MODIFIED:20240304T151932Z
UID:10000209-1711566000-1711569600@larchenc.org
SUMMARY:Stations of the Cross: Disability Justice (Raleigh)
DESCRIPTION:Interactive Stations of the Cross with L’Arche NC\n\nWednesday\, March 27 at Community UCC at 7:00PM (in person)\n\nAt each of the fourteen stations\, we will prayerfully memorialize and visualize the journey of Christ to the Cross. At the gathering\, we will use reflections written by Tatum Tricarico\, the L’Arche NC Disability Justice and Theology intern from Duke Divinity School. These reflections will invite us to experience the stations of the Cross from a distinct Disability theology perspective. This will inform us about the joys and sorrows of the Disabled community\, allow us to notice the unique ways that God is at work from a Disability perspective\, and give us the opportunity to pray for God to help us move beyond the Ableism and discrimination that are often present. We will travel through these stations in solidarity with Disabled people and with a deep trust that Jesus’ life\, death\, and resurrection open up a sense of our own calling to live amidst the joys and sorrows of others. \n \nCUCC Welcoming Parking map 2024-01-06 \nSign up here! \nL’Arche NC’s mission is to cultivate inclusive communities where people across the spectrum of intellectual and developmental disability identities live and flourish together. Read more: https://larchenc.org
URL:https://larchenc.org/event/stations-of-the-cross-disability-justice-raleigh/
LOCATION:Community United Church of Christ\, Raleigh\, 814 Dixie Trail\, Raleigh\, NC\, 27607
CATEGORIES:Community Event
ATTACH;FMTTYPE=image/png:https://larchenc.org/wp-content/uploads/2024/01/March-Images.png
ORGANIZER;CN="L'Arche NC":MAILTO:info@larchenc.org
END:VEVENT
END:VCALENDAR