BEGIN:VCALENDAR
VERSION:2.0
PRODID:-//L’Arche North Carolina - ECPv6.15.20//NONSGML v1.0//EN
CALSCALE:GREGORIAN
METHOD:PUBLISH
X-WR-CALNAME:L’Arche North Carolina
X-ORIGINAL-URL:https://larchenc.org
X-WR-CALDESC:Events for L’Arche North Carolina
REFRESH-INTERVAL;VALUE=DURATION:PT1H
X-Robots-Tag:noindex
X-PUBLISHED-TTL:PT1H
BEGIN:VTIMEZONE
TZID:America/New_York
BEGIN:DAYLIGHT
TZOFFSETFROM:-0500
TZOFFSETTO:-0400
TZNAME:EDT
DTSTART:20230312T070000
END:DAYLIGHT
BEGIN:STANDARD
TZOFFSETFROM:-0400
TZOFFSETTO:-0500
TZNAME:EST
DTSTART:20231105T060000
END:STANDARD
BEGIN:DAYLIGHT
TZOFFSETFROM:-0500
TZOFFSETTO:-0400
TZNAME:EDT
DTSTART:20240310T070000
END:DAYLIGHT
BEGIN:STANDARD
TZOFFSETFROM:-0400
TZOFFSETTO:-0500
TZNAME:EST
DTSTART:20241103T060000
END:STANDARD
BEGIN:DAYLIGHT
TZOFFSETFROM:-0500
TZOFFSETTO:-0400
TZNAME:EDT
DTSTART:20250309T070000
END:DAYLIGHT
BEGIN:STANDARD
TZOFFSETFROM:-0400
TZOFFSETTO:-0500
TZNAME:EST
DTSTART:20251102T060000
END:STANDARD
END:VTIMEZONE
BEGIN:VEVENT
DTSTART;TZID=America/New_York:20240221T123000
DTEND;TZID=America/New_York:20240221T130000
DTSTAMP:20260425T174106
CREATED:20240124T183048Z
LAST-MODIFIED:20240124T183048Z
UID:10000205-1708518600-1708520400@larchenc.org
SUMMARY:Y’all Belong Here
DESCRIPTION:All are welcome to join L’Arche Atlanta and L’Arche North Carolina’s community of people with and without disabilities for our monthly 30-minute interfaith virtual prayer service on the third Wednesday of every month at 12:30pm EST. All religious and/or non-faith traditions are welcome at this gathering. \nEach gathering is about 30 minutes and may include: \n\nWelcome and passing of the peace/sharing hello\nSomething to reflect on\, such as a reading or video\nIndividual reflection\nSharing with small group\nClosing with prayers (community joys & concerns)\n\nHow to Connect\nZoom link: https://us06web.zoom.us/j/87177312701?pwd=M0dNd1VUY0N1VTJVS25LcmxPVFNrZz09\nMeeting ID: 871 7731 2701\nPasscode: 456180 \nOne tap mobile \n+13052241968\,\,87177312701#\,\,\,\,*456180# US \n+13092053325\,\,87177312701#\,\,\,\,*456180# US
URL:https://larchenc.org/event/yall-belong-here-4/
LOCATION:Online: Zoom
CATEGORIES:Community Event
ATTACH;FMTTYPE=image/png:https://larchenc.org/wp-content/uploads/2023/01/calendar-3.png
ORGANIZER;CN="L'Arche NC":MAILTO:info@larchenc.org
END:VEVENT
BEGIN:VEVENT
DTSTART;TZID=America/New_York:20240222T173000
DTEND;TZID=America/New_York:20240222T193000
DTSTAMP:20260425T174106
CREATED:20240103T215448Z
LAST-MODIFIED:20240208T203303Z
UID:10000198-1708623000-1708630200@larchenc.org
SUMMARY:PAL-entine's Day Dinner
DESCRIPTION:Enjoy dinner and crafts with new friends and familiar pals! \nL’Arche NC is partnering once again with our friends at Duke Memorial to host a community dinner! Fittingly\, the theme is PAL-entine’s – a celebration of friendship! Everyone of all faiths and abilities is welcome\, so don’t be shy 😁. Show up and show out for this joy-filled event! \nThe dinner lasts from 🕠5:30 to 7:30\, but don’t worry if you can’t stay that long. The format is drop-in\, so come as you are able! \nWe are now accepting donations for our Birthday Kit Supply Drive! Please bring as many items as you are comfortable donating for the kit. \n\n9×13 disposable aluminum foil pan (lids encouraged)\nBoxed cake mix (any flavor)\nTubs of frosting (any flavor)\nSprinkles or toppings\nCandles\n1 Can of Sprite / Lemon-Lime Soda\n\nOptional items: \n\nStationary for birthday notes\nParty supplies: balloons\, streamers\, stickers\, etc.\n\nSign up here! Feel free to invite any of your friends! It’s PAL-entines – it’d be the right thing to do! ✅ \nCurrently\, our events and programs are free. If you’d like to donate to make these opportunities more sustainable and available\, please visit larchenc.org/give. We greatly appreciate your contribution!
URL:https://larchenc.org/event/palentines/
CATEGORIES:Community Event
ATTACH;FMTTYPE=image/png:https://larchenc.org/wp-content/uploads/2024/01/February-Website-Images.png
ORGANIZER;CN="L'Arche NC":MAILTO:info@larchenc.org
END:VEVENT
END:VCALENDAR