BEGIN:VCALENDAR
VERSION:2.0
PRODID:-//L’Arche North Carolina - ECPv6.15.20//NONSGML v1.0//EN
CALSCALE:GREGORIAN
METHOD:PUBLISH
X-WR-CALNAME:L’Arche North Carolina
X-ORIGINAL-URL:https://larchenc.org
X-WR-CALDESC:Events for L’Arche North Carolina
REFRESH-INTERVAL;VALUE=DURATION:PT1H
X-Robots-Tag:noindex
X-PUBLISHED-TTL:PT1H
BEGIN:VTIMEZONE
TZID:America/New_York
BEGIN:DAYLIGHT
TZOFFSETFROM:-0500
TZOFFSETTO:-0400
TZNAME:EDT
DTSTART:20240310T070000
END:DAYLIGHT
BEGIN:STANDARD
TZOFFSETFROM:-0400
TZOFFSETTO:-0500
TZNAME:EST
DTSTART:20241103T060000
END:STANDARD
BEGIN:DAYLIGHT
TZOFFSETFROM:-0500
TZOFFSETTO:-0400
TZNAME:EDT
DTSTART:20250309T070000
END:DAYLIGHT
BEGIN:STANDARD
TZOFFSETFROM:-0400
TZOFFSETTO:-0500
TZNAME:EST
DTSTART:20251102T060000
END:STANDARD
BEGIN:DAYLIGHT
TZOFFSETFROM:-0500
TZOFFSETTO:-0400
TZNAME:EDT
DTSTART:20260308T070000
END:DAYLIGHT
BEGIN:STANDARD
TZOFFSETFROM:-0400
TZOFFSETTO:-0500
TZNAME:EST
DTSTART:20261101T060000
END:STANDARD
END:VTIMEZONE
BEGIN:VEVENT
DTSTART;TZID=America/New_York:20251204T140000
DTEND;TZID=America/New_York:20251204T160000
DTSTAMP:20260423T233120
CREATED:20251027T194511Z
LAST-MODIFIED:20251028T181431Z
UID:10000468-1764856800-1764864000@larchenc.org
SUMMARY:Cook Together!
DESCRIPTION:You’re invited to join new friends and familiar faces at Cook Together 🍽️! \nWhat to expect: \n1.  We first gather around tables and introduce ourselves. We then ask a get-to-know-you “This or That” question\, such as “Do you like Salty or Savory?” or “Do you prefer the mountains or the beach?”🤔 \n2. Next\, we review the recipe we are making for the day. ✅ \n3. We create the recipe together in groups\, following the step-by-step directions 🔢(No cooking experience is needed to join us ). \n4. We clean up together and celebrate any exciting news! 🎉
URL:https://larchenc.org/event/6163-2-3/
LOCATION:The Bulla Center\, 301 W Jones St\, Raleigh\, 27603\, United States
CATEGORIES:Cook Together
ATTACH;FMTTYPE=image/png:https://larchenc.org/wp-content/uploads/2025/08/Cook-Together-e1724628114733.png
ORGANIZER;CN="L'Arche NC":MAILTO:info@larchenc.org
END:VEVENT
BEGIN:VEVENT
DTSTART;TZID=America/New_York:20251207T183000
DTEND;TZID=America/New_York:20251207T200000
DTSTAMP:20260423T233120
CREATED:20251024T193634Z
LAST-MODIFIED:20251205T132613Z
UID:10000635-1765132200-1765137600@larchenc.org
SUMMARY:Holiday Karaoke with Edenton St. UMC Youth
DESCRIPTION:Join us for our annual Holiday Karaoke! \nFolks from L’Arche NC and Edenton St. UMC Youth will be joining together to sing and dance the night away! \nCome sing your favorite tune- or watch others belt Holiday classics while you decorate cookies! \nRSVP beforehand! We hope to see you there!
URL:https://larchenc.org/event/holiday-karaoke-with-edenton-st-umc-youth/
LOCATION:The Bulla Center\, 301 W Jones St\, Raleigh\, 27603\, United States
CATEGORIES:Community Event
ATTACH;FMTTYPE=image/png:https://larchenc.org/wp-content/uploads/2025/10/Red-and-Green-Retro-Christmas-Party-Instagram-Post.png
ORGANIZER;CN="L'Arche NC":MAILTO:info@larchenc.org
END:VEVENT
BEGIN:VEVENT
DTSTART;TZID=America/New_York:20251209T140000
DTEND;TZID=America/New_York:20251209T150000
DTSTAMP:20260423T233120
CREATED:20251027T194548Z
LAST-MODIFIED:20251027T194548Z
UID:10000566-1765288800-1765292400@larchenc.org
SUMMARY:Jam Together!
DESCRIPTION:Join us for Jam Together! 🎶 \nLed by some of our talented musical friends\, Jam Together focuses on creating and appreciating sound\, whether it’s singing together or playing instruments! So whether you’re a maker of music or just an appreciator – this event is for you! \nJoin us from 2-3PM\, at the Bulla Center – 301 West Jones St\, Raleigh NC.
URL:https://larchenc.org/event/jam-together-14-2-3/
LOCATION:The Bulla Center\, 301 W Jones St\, Raleigh\, 27603\, United States
CATEGORIES:Jam Together
ATTACH;FMTTYPE=image/png:https://larchenc.org/wp-content/uploads/2025/08/Together-Series-Logos-5.png
ORGANIZER;CN="L'Arche NC":MAILTO:info@larchenc.org
END:VEVENT
BEGIN:VEVENT
DTSTART;TZID=America/New_York:20251217T123000
DTEND;TZID=America/New_York:20251217T130000
DTSTAMP:20260423T233120
CREATED:20251027T194651Z
LAST-MODIFIED:20251027T194651Z
UID:10000339-1765974600-1765976400@larchenc.org
SUMMARY:Y’all Belong Here
DESCRIPTION:All are welcome to join L’Arche Atlanta and L’Arche North Carolina’s community of people with and without disabilities for our monthly 30-minute interfaith virtual prayer service on the third Wednesday of every month at 12:30pm EST. All religious and/or non-faith traditions are welcome at this gathering. \nEach gathering is about 30 minutes and may include: \n\nWelcome and passing of the peace/sharing hello\nSomething to reflect on\, such as a reading or video\nIndividual reflection\nSharing with small group\nClosing with prayers (community joys & concerns)\n\nHow to Connect \n\nJoin Zoom Meeting\nhttps://us02web.zoom.us/j/88948314502?pwd=IE2FZceH0N7L7nYqMsn7Xmd4azZ4ls.1 \nMeeting ID: 889 4831 4502\nPasscode: 817032 \n\nOne tap mobile\n+13092053325\,\,88948314502#\,\,\,\,*817032# US\n+13126266799\,\,88948314502#\,\,\,\,*817032# US (Chicago)
URL:https://larchenc.org/event/yall-belong-here-9-2-2-2-3/2025-12-17/
LOCATION:Online: Zoom
CATEGORIES:Community Event,Y'all Belong Here
ATTACH;FMTTYPE=image/png:https://larchenc.org/wp-content/uploads/2025/08/Together-Series-Logos-7.png
ORGANIZER;CN="L'Arche NC":MAILTO:info@larchenc.org
END:VEVENT
BEGIN:VEVENT
DTSTART;TZID=America/New_York:20251218T140000
DTEND;TZID=America/New_York:20251218T160000
DTSTAMP:20260423T233120
CREATED:20251027T194623Z
LAST-MODIFIED:20251027T194623Z
UID:10000489-1766066400-1766073600@larchenc.org
SUMMARY:Craft Together!
DESCRIPTION:You’re invited to join new friends and familiar faces at Craft Together 🎨! \n\nJoin us at The Bulla Center  (301 West Jones St\, Raleigh NC) for an afternoon of craft and fellowship. All supplies are provided. \nWhat to expect: \n1.  We first gather around tables and introduce ourselves. We then ask a get-to-know-you “This or That” question\, such as “Do you like Salty or Savory?” or “Do you prefer the mountains or the beach?”🤔 \n2. Next\, we review the craft we are making for the day. ✅ \n3. We craft together\, following instructions\, but still putting our own spin on it. \n4. We present our designs\, and talk about them. \n5. We clean up together and chat about the new things in our life! \n\nDon’t forget to sign up in advance!
URL:https://larchenc.org/event/craft-together-15-2-3/
LOCATION:The Bulla Center\, 301 W Jones St\, Raleigh\, 27603\, United States
CATEGORIES:Craft Together
ATTACH;FMTTYPE=image/png:https://larchenc.org/wp-content/uploads/2025/08/Craft-Together-e1732396392131.png
ORGANIZER;CN="L'Arche NC":MAILTO:info@larchenc.org
END:VEVENT
END:VCALENDAR