BEGIN:VCALENDAR
VERSION:2.0
PRODID:-//L’Arche North Carolina - ECPv6.15.20//NONSGML v1.0//EN
CALSCALE:GREGORIAN
METHOD:PUBLISH
X-ORIGINAL-URL:https://larchenc.org
X-WR-CALDESC:Events for L’Arche North Carolina
REFRESH-INTERVAL;VALUE=DURATION:PT1H
X-Robots-Tag:noindex
X-PUBLISHED-TTL:PT1H
BEGIN:VTIMEZONE
TZID:America/New_York
BEGIN:DAYLIGHT
TZOFFSETFROM:-0500
TZOFFSETTO:-0400
TZNAME:EDT
DTSTART:20230312T070000
END:DAYLIGHT
BEGIN:STANDARD
TZOFFSETFROM:-0400
TZOFFSETTO:-0500
TZNAME:EST
DTSTART:20231105T060000
END:STANDARD
BEGIN:DAYLIGHT
TZOFFSETFROM:-0500
TZOFFSETTO:-0400
TZNAME:EDT
DTSTART:20240310T070000
END:DAYLIGHT
BEGIN:STANDARD
TZOFFSETFROM:-0400
TZOFFSETTO:-0500
TZNAME:EST
DTSTART:20241103T060000
END:STANDARD
BEGIN:DAYLIGHT
TZOFFSETFROM:-0500
TZOFFSETTO:-0400
TZNAME:EDT
DTSTART:20250309T070000
END:DAYLIGHT
BEGIN:STANDARD
TZOFFSETFROM:-0400
TZOFFSETTO:-0500
TZNAME:EST
DTSTART:20251102T060000
END:STANDARD
END:VTIMEZONE
BEGIN:VEVENT
DTSTART;TZID=America/New_York:20240403T140000
DTEND;TZID=America/New_York:20240403T150000
DTSTAMP:20260425T100157
CREATED:20240311T001754Z
LAST-MODIFIED:20240328T184112Z
UID:10000218-1712152800-1712156400@larchenc.org
SUMMARY:Play Together
DESCRIPTION:You’re invited to join new friends and familiar faces at Play Together. \nThis event is a VIRTUAL event! This means you must join virtually through Zoom. \nWhat to expect during this afternoon time of fun and fellowship: \n1. We first take some time to introduce ourselves. \n2. Next\, we go over the rules of the game. ✅ \n3. Then we play the game together\, completing round after round\, until a winner is announced! There will be multiple winners. \nWe ask everyone to please RSVP so that we know who’s coming to the event. \nSign up form here! \nZoom link here! Meeting starts at 2PM\, April 3rd! \nCurrently\, our events and programs are free. If you’d like to donate to make these opportunities more sustainable and available\, please visit larchenc.org/give. We greatly appreciate your contribution!
URL:https://larchenc.org/event/play-together-3/
CATEGORIES:Community Event
ATTACH;FMTTYPE=image/png:https://larchenc.org/wp-content/uploads/2024/03/default-event-images-for-website4.png
ORGANIZER;CN="L'Arche NC":MAILTO:info@larchenc.org
END:VEVENT
BEGIN:VEVENT
DTSTART;TZID=America/New_York:20240404T140000
DTEND;TZID=America/New_York:20240404T160000
DTSTAMP:20260425T100157
CREATED:20240310T235808Z
LAST-MODIFIED:20240328T160939Z
UID:10000217-1712239200-1712246400@larchenc.org
SUMMARY:Cook Together
DESCRIPTION:You’re invited to join new friends and familiar faces at Cook Together 🍽️! Join us at The Bulla Center  (301 West Jones St\, Raleigh NC) for an afternoon of food and fellowship. This time\, we’re making peach crisps! \nWhat to expect: \n1.  We first gather around tables and introduce ourselves. We then ask a get-to-know-you “This or That” question\, such as “Do you like Salty or Savory?” or “Do you prefer the mountains or the beach?”🤔 \n2. Next\, we review the recipe we are making for the day. ✅ \n3. We create the recipe together in groups\, following the step-by-step directions 🔢(No cooking experience is needed to join us ). \n4. We clean up together and celebrate any exciting news! 🎉 \nSign up form here! \nCurrently\, our events and programs are free. If you’d like to donate to make these opportunities more sustainable and available\, please visit larchenc.org/give. We greatly appreciate your contribution!
URL:https://larchenc.org/event/cook-together-5/
CATEGORIES:Community Event
ATTACH;FMTTYPE=image/png:https://larchenc.org/wp-content/uploads/2024/03/Untitled-design15.png
ORGANIZER;CN="L'Arche NC":MAILTO:info@larchenc.org
END:VEVENT
BEGIN:VEVENT
DTSTART;TZID=America/New_York:20240405T120000
DTEND;TZID=America/New_York:20240405T130000
DTSTAMP:20260425T100157
CREATED:20240317T150223Z
LAST-MODIFIED:20240325T151316Z
UID:10000224-1712318400-1712322000@larchenc.org
SUMMARY:Book Discussion: "Loving Our Own Bones"
DESCRIPTION:Join L’Arche NC and Judea Reform Congregation for a 4-week book discussion on Zoom. Taking place every Friday from 12-1pm EST\, feel free to come to one or all weeks!\n \nLoving Our Own Bones invites readers to claim the power and promise of spiritual dissent\, and to nourish their own souls through the revolutionary art of radical self-love.\n \nJulia Watts Belser is a rabbi\, scholar\, and spiritual teacher\, as well as a longtime activist for disability\, LGBTQ\, and gender justice. She is a professor of Jewish Studies in the Department of Theology and Religious Studies at Georgetown University \nSign up form here!\n \nZoom link here! \nIf you don’t have the book\, we can provide one via local pickup. The pickup locations include Duke Memorial UMC (Durham) on Mondays\, and the Bulla Center (Raleigh) on Thursdays. Email info@larchenc.org to arrange a pickup between 8:30am-5pm!
URL:https://larchenc.org/event/book-discussion-loving-our-own-bones/2024-04-05/
CATEGORIES:Community Event
ATTACH;FMTTYPE=image/png:https://larchenc.org/wp-content/uploads/2024/03/Untitled-design14.png
ORGANIZER;CN="L'Arche NC":MAILTO:info@larchenc.org
END:VEVENT
BEGIN:VEVENT
DTSTART;TZID=America/New_York:20240407T130500
DTEND;TZID=America/New_York:20240407T170000
DTSTAMP:20260425T100157
CREATED:20240311T002435Z
LAST-MODIFIED:20240311T184958Z
UID:10000219-1712495100-1712509200@larchenc.org
SUMMARY:Sunday Meetup
DESCRIPTION:Hey batter-batter\, hey batter-batter swing! ⚾ \nLet’s all meet up at the baseball game with L’Arche NC this Sunday\, April 7th! What could be better than that? \nTaking place at 1:05PM at the Durham Bulls Athletic Park\, the event promises to be wholesome fun for the whole community. Bring your friends\, your family\, your partners – all are welcome at L’Arche! \nWe’ve got discounted tickets and special seating\, all just for L’Arche. Purchase  your tickets using this link:https://fevo-enterprise.com/event/Larchenorth/offer to guarantee your place with us! \nDiscount lasts until MIDNIGHT\, APRIL 4TH. So make sure to buy your tickets ASAP❗ \n📌Durham Bulls Athletic Park is at: 409 Blackwell St\, Durham\, NC 27701 \nWe look forward to seeing you there! \n 
URL:https://larchenc.org/event/sunday-meetup/
LOCATION:Durham Bulls Athletic Park\, 409 Blackwell St\, Durham\, NC\, 27701\, United States
CATEGORIES:Community Event
ATTACH;FMTTYPE=image/png:https://larchenc.org/wp-content/uploads/2024/03/default-event-images-for-website6.png
ORGANIZER;CN="L'Arche NC":MAILTO:info@larchenc.org
END:VEVENT
BEGIN:VEVENT
DTSTART;TZID=America/New_York:20240409T140000
DTEND;TZID=America/New_York:20240409T150000
DTSTAMP:20260425T100157
CREATED:20240311T002826Z
LAST-MODIFIED:20240311T141206Z
UID:10000220-1712671200-1712674800@larchenc.org
SUMMARY:Jam Together
DESCRIPTION:After seeing the success of Holiday Karaoke and hearing from multiple participants about the importance of music\, L’Arche NC is proud to present our newest event: Jam Together! 🎶 \nLed by Chris Hendricks and Lee Anderson\, Jam Together focuses on creating and appreciating sound\, whether it’s singing together or playing instruments! So whether you’re a maker of music or just an appreciator – this event is for you! \nJoin us\, April 9th\, from 2-3PM\, at the Bulla Center – 301 West Jones St\, Raleigh NC. \nSign up form here!
URL:https://larchenc.org/event/jam-together/
CATEGORIES:Community Event
ATTACH;FMTTYPE=image/png:https://larchenc.org/wp-content/uploads/2024/03/default-event-images-for-website5.png
ORGANIZER;CN="L'Arche NC":MAILTO:info@larchenc.org
END:VEVENT
BEGIN:VEVENT
DTSTART;TZID=America/New_York:20240412T120000
DTEND;TZID=America/New_York:20240412T130000
DTSTAMP:20260425T100157
CREATED:20240317T150223Z
LAST-MODIFIED:20240325T151316Z
UID:10000225-1712923200-1712926800@larchenc.org
SUMMARY:Book Discussion: "Loving Our Own Bones"
DESCRIPTION:Join L’Arche NC and Judea Reform Congregation for a 4-week book discussion on Zoom. Taking place every Friday from 12-1pm EST\, feel free to come to one or all weeks!\n \nLoving Our Own Bones invites readers to claim the power and promise of spiritual dissent\, and to nourish their own souls through the revolutionary art of radical self-love.\n \nJulia Watts Belser is a rabbi\, scholar\, and spiritual teacher\, as well as a longtime activist for disability\, LGBTQ\, and gender justice. She is a professor of Jewish Studies in the Department of Theology and Religious Studies at Georgetown University \nSign up form here!\n \nZoom link here! \nIf you don’t have the book\, we can provide one via local pickup. The pickup locations include Duke Memorial UMC (Durham) on Mondays\, and the Bulla Center (Raleigh) on Thursdays. Email info@larchenc.org to arrange a pickup between 8:30am-5pm!
URL:https://larchenc.org/event/book-discussion-loving-our-own-bones/2024-04-12/
CATEGORIES:Community Event
ATTACH;FMTTYPE=image/png:https://larchenc.org/wp-content/uploads/2024/03/Untitled-design14.png
ORGANIZER;CN="L'Arche NC":MAILTO:info@larchenc.org
END:VEVENT
BEGIN:VEVENT
DTSTART;TZID=America/New_York:20240417T123000
DTEND;TZID=America/New_York:20240417T130000
DTSTAMP:20260425T100157
CREATED:20240317T150441Z
LAST-MODIFIED:20240317T150441Z
UID:10000228-1713357000-1713358800@larchenc.org
SUMMARY:Y’all Belong Here
DESCRIPTION:All are welcome to join L’Arche Atlanta and L’Arche North Carolina’s community of people with and without disabilities for our monthly 30-minute interfaith virtual prayer service on the third Wednesday of every month at 12:30pm EST. All religious and/or non-faith traditions are welcome at this gathering. \nEach gathering is about 30 minutes and may include: \n\nWelcome and passing of the peace/sharing hello\nSomething to reflect on\, such as a reading or video\nIndividual reflection\nSharing with small group\nClosing with prayers (community joys & concerns)\n\nHow to Connect\nZoom link: https://us06web.zoom.us/j/87177312701?pwd=M0dNd1VUY0N1VTJVS25LcmxPVFNrZz09\nMeeting ID: 871 7731 2701\nPasscode: 456180 \nOne tap mobile \n+13052241968\,\,87177312701#\,\,\,\,*456180# US \n+13092053325\,\,87177312701#\,\,\,\,*456180# US
URL:https://larchenc.org/event/yall-belong-here-6/
LOCATION:Online: Zoom
CATEGORIES:Community Event
ATTACH;FMTTYPE=image/png:https://larchenc.org/wp-content/uploads/2023/01/calendar-3.png
ORGANIZER;CN="L'Arche NC":MAILTO:info@larchenc.org
END:VEVENT
BEGIN:VEVENT
DTSTART;TZID=America/New_York:20240418T140000
DTEND;TZID=America/New_York:20240418T160000
DTSTAMP:20260425T100157
CREATED:20240311T003253Z
LAST-MODIFIED:20240311T141258Z
UID:10000221-1713448800-1713456000@larchenc.org
SUMMARY:Craft Together
DESCRIPTION:You’re invited to join new friends and familiar faces at Craft Together 🎨! All supplies are provided. \nJoin us at The Bulla Center  (301 West Jones St\, Raleigh NC) for an afternoon of craft and fellowship. \nWhat to expect: \n1.  We first gather around tables and introduce ourselves. We then ask a get-to-know-you “This or That” question\, such as “Do you like Salty or Savory?” or “Do you prefer the mountains or the beach?”🤔 \n2. Next\, we review the craft we are making for the day. ✅ \n3. We craft together\, following instructions\, but still putting our own spin on it. \n4. We present our designs\, and talk about them. \n5. We clean up together and chat about the new things in our life! \nSign up form here!\n \nCurrently\, our events and programs are free. If you’d like to donate to make these opportunities more sustainable and available\, please visit larchenc.org/give. We greatly appreciate your contribution!
URL:https://larchenc.org/event/craft-together-3/
CATEGORIES:Community Event
ATTACH;FMTTYPE=image/png:https://larchenc.org/wp-content/uploads/2024/03/default-event-images-for-website7.png
ORGANIZER;CN="L'Arche NC":MAILTO:info@larchenc.org
END:VEVENT
BEGIN:VEVENT
DTSTART;TZID=America/New_York:20240418T193000
DTEND;TZID=America/New_York:20240418T193000
DTSTAMP:20260425T100157
CREATED:20240317T144500Z
LAST-MODIFIED:20240417T171839Z
UID:10000223-1713468600-1713468600@larchenc.org
SUMMARY:L'Arche USA Talent Spectacular
DESCRIPTION:Mark your calendar for the L’Arche Talent Spectacular happening on April 18th at 7:30 p.m. Eastern / 4:30 p.m. Pacific. \nHosed by L’Arche USA\, this extraordinary showcase highlights what L’Arche does best: recognizing the unique gifts of every individual! \nThe talent show will be hosted on Zoom\, meaning everyone from all across the country can view and participate! So if you have a talent you’d like to share\, or just want to watch the show\, you’re welcome to come! \nTo watch the show\, join here! \nWe’d love to have our friends sign up and represent L’Arche NC! \nLArche-Talent-Spectacular-2024-IN.pdf
URL:https://larchenc.org/event/larche-talent-spectacular/
CATEGORIES:Community Event
ATTACH;FMTTYPE=image/png:https://larchenc.org/wp-content/uploads/2024/03/Untitled-design13.png
END:VEVENT
BEGIN:VEVENT
DTSTART;TZID=America/New_York:20240419T120000
DTEND;TZID=America/New_York:20240419T130000
DTSTAMP:20260425T100157
CREATED:20240317T150223Z
LAST-MODIFIED:20240325T151316Z
UID:10000226-1713528000-1713531600@larchenc.org
SUMMARY:Book Discussion: "Loving Our Own Bones"
DESCRIPTION:Join L’Arche NC and Judea Reform Congregation for a 4-week book discussion on Zoom. Taking place every Friday from 12-1pm EST\, feel free to come to one or all weeks!\n \nLoving Our Own Bones invites readers to claim the power and promise of spiritual dissent\, and to nourish their own souls through the revolutionary art of radical self-love.\n \nJulia Watts Belser is a rabbi\, scholar\, and spiritual teacher\, as well as a longtime activist for disability\, LGBTQ\, and gender justice. She is a professor of Jewish Studies in the Department of Theology and Religious Studies at Georgetown University \nSign up form here!\n \nZoom link here! \nIf you don’t have the book\, we can provide one via local pickup. The pickup locations include Duke Memorial UMC (Durham) on Mondays\, and the Bulla Center (Raleigh) on Thursdays. Email info@larchenc.org to arrange a pickup between 8:30am-5pm!
URL:https://larchenc.org/event/book-discussion-loving-our-own-bones/2024-04-19/
CATEGORIES:Community Event
ATTACH;FMTTYPE=image/png:https://larchenc.org/wp-content/uploads/2024/03/Untitled-design14.png
ORGANIZER;CN="L'Arche NC":MAILTO:info@larchenc.org
END:VEVENT
BEGIN:VEVENT
DTSTART;TZID=America/New_York:20240420T140000
DTEND;TZID=America/New_York:20240420T160000
DTSTAMP:20260425T100157
CREATED:20240325T201931Z
LAST-MODIFIED:20240325T201931Z
UID:10000229-1713621600-1713628800@larchenc.org
SUMMARY:Bingo with Edenton Street!
DESCRIPTION:Hey L’Arche NC! \nWe are invited to join E-Street for a fun afternoon of Picture Bingo! Join us at our regular meeting location (the Bulla Center) on April 20 at 2pm for Bingo! Win fun prizes like local gift cards and meet new friends. Our bingo game will be in person only. Friends of all ages and abilities are welcome! Limited to the first 25 L’Arche friends who sign up due to space limitations. \nThe Bulla Center’s address is 301 W. Jones St\, Raleigh NC. \nSign up here!
URL:https://larchenc.org/event/bingo-with-edenton-street/
LOCATION:The Bulla Center\, 301 W Jones St\, Raleigh\, 27603\, United States
CATEGORIES:Community Event
ATTACH;FMTTYPE=image/png:https://larchenc.org/wp-content/uploads/2024/02/March-Images2.png
ORGANIZER;CN="L'Arche NC":MAILTO:info@larchenc.org
END:VEVENT
BEGIN:VEVENT
DTSTART;TZID=America/New_York:20240423T140000
DTEND;TZID=America/New_York:20240423T160000
DTSTAMP:20260425T100157
CREATED:20240311T003726Z
LAST-MODIFIED:20240411T180702Z
UID:10000222-1713880800-1713888000@larchenc.org
SUMMARY:Serve Together!
DESCRIPTION:Join us for our newest event: “Serve Together” ! During “Serve Together”\, we work on projects to support local non-profits and service organizations. This month\, we’ll be creating breakfast casseroles to feed those in need! \nWe need: \n\n5 Dozen Eggs\n5 Sticks of Butter\n10 7-Ounce cans of Diced Green Chilli\n10 cups of Cottage Cheese\n5 pounds shredded sharp cheddar/pepper jack\n\nTo bring supplies\, sign up here! \nJoin us at Kerr Hall (228 West Edenton St\, Raleigh NC) for an afternoon of service and fellowship. \nWhat to expect: \n1.  We first gather around tables and introduce ourselves. We then ask a get-to-know-you “This or That” question\, such as “Do you like Salty or Savory?” or “Do you prefer the mountains or the beach?”🤔 \n2. Next\, we review the project we are making for the day. ✅ \n3. We create the project together in groups\, following the step-by-step directions 🔢 (No prior experience is needed to join us). \n4. If we get finished early\, we take a break to play games together. 🎲 \n5. We clean up together and celebrate any exciting news! 🎉 \nSign up form here! \nCurrently\, our events and programs are free. If you’d like to donate to make these opportunities more sustainable and available\, please visit larchenc.org/give. We greatly appreciate your contribution!
URL:https://larchenc.org/event/serve-together/
CATEGORIES:Community Event
ATTACH;FMTTYPE=image/png:https://larchenc.org/wp-content/uploads/2024/03/default-event-images-for-website8.png
ORGANIZER;CN="L'Arche NC":MAILTO:info@larchenc.org
END:VEVENT
BEGIN:VEVENT
DTSTART;TZID=America/New_York:20240426T120000
DTEND;TZID=America/New_York:20240426T130000
DTSTAMP:20260425T100157
CREATED:20240317T150223Z
LAST-MODIFIED:20240325T151316Z
UID:10000227-1714132800-1714136400@larchenc.org
SUMMARY:Book Discussion: "Loving Our Own Bones"
DESCRIPTION:Join L’Arche NC and Judea Reform Congregation for a 4-week book discussion on Zoom. Taking place every Friday from 12-1pm EST\, feel free to come to one or all weeks!\n \nLoving Our Own Bones invites readers to claim the power and promise of spiritual dissent\, and to nourish their own souls through the revolutionary art of radical self-love.\n \nJulia Watts Belser is a rabbi\, scholar\, and spiritual teacher\, as well as a longtime activist for disability\, LGBTQ\, and gender justice. She is a professor of Jewish Studies in the Department of Theology and Religious Studies at Georgetown University \nSign up form here!\n \nZoom link here! \nIf you don’t have the book\, we can provide one via local pickup. The pickup locations include Duke Memorial UMC (Durham) on Mondays\, and the Bulla Center (Raleigh) on Thursdays. Email info@larchenc.org to arrange a pickup between 8:30am-5pm!
URL:https://larchenc.org/event/book-discussion-loving-our-own-bones/2024-04-26/
CATEGORIES:Community Event
ATTACH;FMTTYPE=image/png:https://larchenc.org/wp-content/uploads/2024/03/Untitled-design14.png
ORGANIZER;CN="L'Arche NC":MAILTO:info@larchenc.org
END:VEVENT
END:VCALENDAR