BEGIN:VCALENDAR
VERSION:2.0
PRODID:-//L’Arche North Carolina - ECPv6.15.20//NONSGML v1.0//EN
CALSCALE:GREGORIAN
METHOD:PUBLISH
X-WR-CALNAME:L’Arche North Carolina
X-ORIGINAL-URL:https://larchenc.org
X-WR-CALDESC:Events for L’Arche North Carolina
REFRESH-INTERVAL;VALUE=DURATION:PT1H
X-Robots-Tag:noindex
X-PUBLISHED-TTL:PT1H
BEGIN:VTIMEZONE
TZID:America/New_York
BEGIN:DAYLIGHT
TZOFFSETFROM:-0500
TZOFFSETTO:-0400
TZNAME:EDT
DTSTART:20230312T070000
END:DAYLIGHT
BEGIN:STANDARD
TZOFFSETFROM:-0400
TZOFFSETTO:-0500
TZNAME:EST
DTSTART:20231105T060000
END:STANDARD
BEGIN:DAYLIGHT
TZOFFSETFROM:-0500
TZOFFSETTO:-0400
TZNAME:EDT
DTSTART:20240310T070000
END:DAYLIGHT
BEGIN:STANDARD
TZOFFSETFROM:-0400
TZOFFSETTO:-0500
TZNAME:EST
DTSTART:20241103T060000
END:STANDARD
BEGIN:DAYLIGHT
TZOFFSETFROM:-0500
TZOFFSETTO:-0400
TZNAME:EDT
DTSTART:20250309T070000
END:DAYLIGHT
BEGIN:STANDARD
TZOFFSETFROM:-0400
TZOFFSETTO:-0500
TZNAME:EST
DTSTART:20251102T060000
END:STANDARD
END:VTIMEZONE
BEGIN:VEVENT
DTSTART;TZID=America/New_York:20240303T150000
DTEND;TZID=America/New_York:20240303T163000
DTSTAMP:20260425T100951
CREATED:20240212T134801Z
LAST-MODIFIED:20240221T134652Z
UID:10000210-1709478000-1709483400@larchenc.org
SUMMARY:Sunday Meet Up: Bowling!
DESCRIPTION:What’s more fun than a game of bowling? 🎳 A game of bowling with your friends\, of course! \nSo gather around the bowling alley with L’Arche NC this Sunday\, March 3rd!  \nTaking place from 3-4:30PM at Stars & Strikes in Raleigh\, the event promises to be wholesome fun for the whole community. Bring your friends\, your family\, your partners – all are welcome at L’Arche! \nAddress is: 4020 Capital Blvd\, Raleigh\, NC 27604 \nNote: There is a $15 fee to enter the bowling alley\, so please be prepared to pay in check or cash. If you are not able to pay\, please let L’Arche NC know beforehand so we can work out a solution. We want everyone to be able to have fun! \nSign up here!
URL:https://larchenc.org/event/sunday-meet-up-bowling/
CATEGORIES:Community Event
ATTACH;FMTTYPE=image/png:https://larchenc.org/wp-content/uploads/2024/02/March-Images1.png
ORGANIZER;CN="L'Arche NC":MAILTO:info@larchenc.org
END:VEVENT
BEGIN:VEVENT
DTSTART;TZID=America/New_York:20240306T140000
DTEND;TZID=America/New_York:20240306T150000
DTSTAMP:20260425T100951
CREATED:20240212T135710Z
LAST-MODIFIED:20240221T143427Z
UID:10000211-1709733600-1709737200@larchenc.org
SUMMARY:Play Together
DESCRIPTION:You’re invited to join new friends and familiar faces at Play Together. This month\, we will be playing Bingo\, and winners will receive $10 gift cards! \nThis event is a VIRTUAL event! This means you must join virtually through Zoom. \nWhat to expect during this afternoon time of fun and fellowship: \n1. We first take some time to introduce ourselves. \n2. Next\, we go over the rules of the game. ✅ \n3. Then we play the game together\, completing round after round\, until a winner is announced! There will be multiple winners. \nWe ask everyone to please RSVP so that we know who’s coming to the event. \nSign up here! \nCurrently\, our events and programs are free. If you’d like to donate to make these opportunities more sustainable and available\, please visit larchenc.org/give. We greatly appreciate your contribution!
URL:https://larchenc.org/event/play-together-%e2%9c%a8-2/
CATEGORIES:Community Event
ATTACH;FMTTYPE=image/png:https://larchenc.org/wp-content/uploads/2024/02/March-Images2.png
ORGANIZER;CN="L'Arche NC":MAILTO:info@larchenc.org
END:VEVENT
BEGIN:VEVENT
DTSTART;TZID=America/New_York:20240307T140000
DTEND;TZID=America/New_York:20240307T160000
DTSTAMP:20260425T100951
CREATED:20240212T152334Z
LAST-MODIFIED:20240226T191413Z
UID:10000212-1709820000-1709827200@larchenc.org
SUMMARY:Cook Together!
DESCRIPTION:You’re invited to join new friends and familiar faces at Cook Together 🍽️! This week\, we will be making pizza\, from the dough\, to the sauce\, to the toppings! Join us at The Bulla Center  (301 West Jones St\, Raleigh NC) for an afternoon of food and fellowship. \nWhat to expect: \n1.  We first gather around tables and introduce ourselves. We then ask a get-to-know-you “This or That” question\, such as “Do you like Salty or Savory?” or “Do you prefer the mountains or the beach?”🤔 \n2. Next\, we review the recipe we are making for the day. ✅ \n3. We create the recipe together in groups\, following the step-by-step directions 🔢(No cooking experience is needed to join us ). \n4. We clean up together and celebrate any exciting news! 🎉 \nSign up here! \nCurrently\, our events and programs are free. If you’d like to donate to make these opportunities more sustainable and available\, please visit larchenc.org/give. We greatly appreciate your contribution!
URL:https://larchenc.org/event/cook-together-4/
LOCATION:The Bulla Center\, 301 W Jones St\, Raleigh\, 27603\, United States
CATEGORIES:Community Event
ATTACH;FMTTYPE=image/png:https://larchenc.org/wp-content/uploads/2024/02/March-Images3.png
ORGANIZER;CN="L'Arche NC":MAILTO:info@larchenc.org
END:VEVENT
BEGIN:VEVENT
DTSTART;TZID=America/New_York:20240312T140000
DTEND;TZID=America/New_York:20240312T150000
DTSTAMP:20260425T100951
CREATED:20240212T152311Z
LAST-MODIFIED:20240221T143458Z
UID:10000213-1710252000-1710255600@larchenc.org
SUMMARY:Jam Together!
DESCRIPTION:After seeing the success of Holiday Karaoke and hearing from multiple participants about the importance of music\, L’Arche NC is proud to present our newest event: Jam Together🎵! \nLed by Chris Hendricks and Lee Anderson\, Jam Together 🎵 focuses on creating and appreciating sound\, whether it’s singing together or playing instruments! So whether you’re a maker of music or just an appreciator – this event is for you! \nThe first session is March 12th\, from 2-3PM\, at the Bulla Center. 301 West Jones St\, Raleigh NC. \nSign up to experience the beauty of music here!
URL:https://larchenc.org/event/jam-together-%f0%9f%8e%b5/
CATEGORIES:Community Event
ATTACH;FMTTYPE=image/png:https://larchenc.org/wp-content/uploads/2024/02/March-Images5.png
ORGANIZER;CN="L'Arche NC":MAILTO:info@larchenc.org
END:VEVENT
BEGIN:VEVENT
DTSTART;TZID=America/New_York:20240314T190000
DTEND;TZID=America/New_York:20240314T200000
DTSTAMP:20260425T100951
CREATED:20240205T134516Z
LAST-MODIFIED:20240227T160648Z
UID:10000207-1710442800-1710446400@larchenc.org
SUMMARY:Stations of the Cross: Disability Justice
DESCRIPTION:Interactive Stations of the Cross with L’Arche NC\n\nThursday\, March 14 at Duke Memorial at 7:00PM (in person)\n\nAt each of the fourteen stations\, we will prayerfully memorialize and visualize the journey of Christ to the Cross. At the gathering\, we will use reflections written by Tatum Tricarico\, the L’Arche NC Disability Justice and Theology intern from Duke Divinity School. These reflections will invite us to experience the stations of the Cross from a distinct Disability theology perspective. This will inform us about the joys and sorrows of the Disabled community\, allow us to notice the unique ways that God is at work from a Disability perspective\, and give us the opportunity to pray for God to help us move beyond the Ableism and discrimination that are often present. We will travel through these stations in solidarity with Disabled people and with a deep trust that Jesus’ life\, death\, and resurrection open up a sense of our own calling to live amidst the joys and sorrows of others. \nSign up here! \nL’Arche NC’s mission is to cultivate inclusive communities where people across the spectrum of intellectual and developmental disability identities live and flourish together. Read more: https://larchenc.org
URL:https://larchenc.org/event/stations-of-the-cross-disability-justice/
LOCATION:Duke Memorial United Methodist Church\, 504 W Chapel Hill St\, Durham\, NC\, 27701\, United States
CATEGORIES:Community Event
ATTACH;FMTTYPE=image/png:https://larchenc.org/wp-content/uploads/2024/01/March-Images.png
ORGANIZER;CN="L'Arche NC":MAILTO:info@larchenc.org
END:VEVENT
BEGIN:VEVENT
DTSTART;TZID=America/New_York:20240319T190000
DTEND;TZID=America/New_York:20240319T200000
DTSTAMP:20260425T100951
CREATED:20240205T134730Z
LAST-MODIFIED:20240313T205118Z
UID:10000208-1710874800-1710878400@larchenc.org
SUMMARY:Stations of the Cross: Disability Justice (VIRTUAL)
DESCRIPTION:Interactive Stations of the Cross with L’Arche NC\n\nThursday\, March 21 on Zoom at 7:00PM\n\nAt each of the fourteen stations\, we will prayerfully memorialize and visualize the journey of Christ to the Cross. At the gathering\, we will use reflections written by Tatum Tricarico\, the L’Arche NC Disability Justice and Theology intern from Duke Divinity School. These reflections will invite us to experience the stations of the Cross from a distinct Disability theology perspective. This will inform us about the joys and sorrows of the Disabled community\, allow us to notice the unique ways that God is at work from a Disability perspective\, and give us the opportunity to pray for God to help us move beyond the Ableism and discrimination that are often present. We will travel through these stations in solidarity with Disabled people and with a deep trust that Jesus’ life\, death\, and resurrection open up a sense of our own calling to live amidst the joys and sorrows of others. \nSign up here! \nZoom link here! https://us06web.zoom.us/meeting/register/tZ0lcOygqD0jHtDyh-V_AYsjxISrvkblH_Zx#/registration \nL’Arche NC’s mission is to cultivate inclusive communities where people across the spectrum of intellectual and developmental disability identities live and flourish together. Read more: https://larchenc.org
URL:https://larchenc.org/event/stations-of-the-cross-disability-justice-virtual/
LOCATION:Online: Zoom
CATEGORIES:Community Event
ATTACH;FMTTYPE=image/png:https://larchenc.org/wp-content/uploads/2024/01/March-Images.png
ORGANIZER;CN="L'Arche NC":MAILTO:info@larchenc.org
END:VEVENT
BEGIN:VEVENT
DTSTART;TZID=America/New_York:20240320T123000
DTEND;TZID=America/New_York:20240320T130000
DTSTAMP:20260425T100951
CREATED:20240212T171919Z
LAST-MODIFIED:20240212T171919Z
UID:10000214-1710937800-1710939600@larchenc.org
SUMMARY:Y’all Belong Here
DESCRIPTION:All are welcome to join L’Arche Atlanta and L’Arche North Carolina’s community of people with and without disabilities for our monthly 30-minute interfaith virtual prayer service on the third Wednesday of every month at 12:30pm EST. All religious and/or non-faith traditions are welcome at this gathering. \nThis service is Mr. Rogers themed! Mr. Rogers is best known as the host of the TV series “Mr. Rogers Neighborhood\,” a gentle and thoughtful show that teaches good lessons. \nEach gathering is about 30 minutes and may include: \n\nWelcome and passing of the peace/sharing hello\nSomething to reflect on\, such as a reading or video\nIndividual reflection\nSharing with small group\nClosing with prayers (community joys & concerns)\n\nHow to Connect\nZoom link: https://us06web.zoom.us/j/87177312701?pwd=M0dNd1VUY0N1VTJVS25LcmxPVFNrZz09\nMeeting ID: 871 7731 2701\nPasscode: 456180 \nOne tap mobile \n+13052241968\,\,87177312701#\,\,\,\,*456180# US \n+13092053325\,\,87177312701#\,\,\,\,*456180# US
URL:https://larchenc.org/event/yall-belong-here-5/
LOCATION:Online: Zoom
CATEGORIES:Community Event
ATTACH;FMTTYPE=image/png:https://larchenc.org/wp-content/uploads/2024/02/March-Images6.png
ORGANIZER;CN="L'Arche NC":MAILTO:info@larchenc.org
END:VEVENT
BEGIN:VEVENT
DTSTART;TZID=America/New_York:20240321T140000
DTEND;TZID=America/New_York:20240321T160000
DTSTAMP:20260425T100951
CREATED:20240212T174258Z
LAST-MODIFIED:20240221T144351Z
UID:10000216-1711029600-1711036800@larchenc.org
SUMMARY:Craft Together
DESCRIPTION:You’re invited to join new friends and familiar faces at Craft Together 🎨! All supplies are provided. We’ll be honoring the Muslim holidays of Ramadan & Eid\, with a craft to match. Henna is the art of drawing on the skin with a temporary dye. While we will NOT be dying our skin today\, we will be creating scratch art that resembles henna patterns\, using our own hands as the templates (or whatever else they’d like to use)! \nJoin us at The Bulla Center  (301 West Jones St\, Raleigh NC) for an afternoon of craft and fellowship. \nWhat to expect: \n1.  We first gather around tables and introduce ourselves. We then ask a get-to-know-you “This or That” question\, such as “Do you like Salty or Savory?” or “Do you prefer the mountains or the beach?”🤔 \n2. Next\, we review the craft we are making for the day. ✅ There will also be a short explanation about henna – what it is\, and why it’s significant! \n3. We craft together\, following instructions\, but still putting our own spin on it. \n4. We present our designs\, and talk about them. \n5. We clean up together and chat about the new things in our life! \nSign up here!
URL:https://larchenc.org/event/craft-together-%f0%9f%8e%a8-4/
LOCATION:The Bulla Center\, 301 W Jones St\, Raleigh\, 27603\, United States
CATEGORIES:Community Event
ATTACH;FMTTYPE=image/png:https://larchenc.org/wp-content/uploads/2024/02/March-Images8.png
ORGANIZER;CN="L'Arche NC":MAILTO:info@larchenc.org
END:VEVENT
BEGIN:VEVENT
DTSTART;TZID=America/New_York:20240326T140000
DTEND;TZID=America/New_York:20240326T160000
DTSTAMP:20260425T100951
CREATED:20240212T173342Z
LAST-MODIFIED:20240212T190159Z
UID:10000215-1711461600-1711468800@larchenc.org
SUMMARY:Serve Together: Birthday Kits
DESCRIPTION:Join us for our newest event: “Serve Together” ! During “Serve Together”\, we work on projects to support local non-profits and service organizations – from blankets and dog treats to luminaries 🕯️\, we will try our best to give back to the community! \nFor our third Serve Together event\, we will be preparing birthday kits! If you can\, please bring the supplies listed below: \n\n9×13 disposable aluminum foil pan (lids encouraged)\nBoxed cake mix (any flavor)\nTubs of frosting (any flavor)\nSprinkles or toppings\nCandles\n1 Can of Sprite / Lemon-Lime Soda\n\nOptional items: \n\nStationary for birthday notes\nParty supplies: balloons\, streamers\, stickers\, etc.\n\nJoin us at The Bulla Center  (301 West Jones St\, Raleigh NC) for an afternoon of service and fellowship. \nWhat to expect: \n1.  We first gather around tables and introduce ourselves. We then ask a get-to-know-you “This or That” question\, such as “Do you like Salty or Savory?” or “Do you prefer the mountains or the beach?”🤔 \n2. Next\, we review the project we are making for the day. ✅ \n3. We create the project together in groups\, following the step-by-step directions 🔢 (No prior experience is needed to join us). \n4. If we get finished early\, we take a break to play games together. 🎲 \n5. We clean up together and celebrate any exciting news! 🎉 \nSign up form here!
URL:https://larchenc.org/event/serve-together-birthday-kits/
LOCATION:The Bulla Center\, 301 W Jones St\, Raleigh\, 27603\, United States
CATEGORIES:Community Event
ATTACH;FMTTYPE=image/png:https://larchenc.org/wp-content/uploads/2024/02/March-Images7.png
ORGANIZER;CN="L'Arche NC":MAILTO:info@larchenc.org
END:VEVENT
BEGIN:VEVENT
DTSTART;TZID=America/New_York:20240327T190000
DTEND;TZID=America/New_York:20240327T200000
DTSTAMP:20260425T100951
CREATED:20240205T134800Z
LAST-MODIFIED:20240304T151932Z
UID:10000209-1711566000-1711569600@larchenc.org
SUMMARY:Stations of the Cross: Disability Justice (Raleigh)
DESCRIPTION:Interactive Stations of the Cross with L’Arche NC\n\nWednesday\, March 27 at Community UCC at 7:00PM (in person)\n\nAt each of the fourteen stations\, we will prayerfully memorialize and visualize the journey of Christ to the Cross. At the gathering\, we will use reflections written by Tatum Tricarico\, the L’Arche NC Disability Justice and Theology intern from Duke Divinity School. These reflections will invite us to experience the stations of the Cross from a distinct Disability theology perspective. This will inform us about the joys and sorrows of the Disabled community\, allow us to notice the unique ways that God is at work from a Disability perspective\, and give us the opportunity to pray for God to help us move beyond the Ableism and discrimination that are often present. We will travel through these stations in solidarity with Disabled people and with a deep trust that Jesus’ life\, death\, and resurrection open up a sense of our own calling to live amidst the joys and sorrows of others. \n \nCUCC Welcoming Parking map 2024-01-06 \nSign up here! \nL’Arche NC’s mission is to cultivate inclusive communities where people across the spectrum of intellectual and developmental disability identities live and flourish together. Read more: https://larchenc.org
URL:https://larchenc.org/event/stations-of-the-cross-disability-justice-raleigh/
LOCATION:Community United Church of Christ\, Raleigh\, 814 Dixie Trail\, Raleigh\, NC\, 27607
CATEGORIES:Community Event
ATTACH;FMTTYPE=image/png:https://larchenc.org/wp-content/uploads/2024/01/March-Images.png
ORGANIZER;CN="L'Arche NC":MAILTO:info@larchenc.org
END:VEVENT
END:VCALENDAR