BEGIN:VCALENDAR
VERSION:2.0
PRODID:-//L’Arche North Carolina - ECPv6.15.20//NONSGML v1.0//EN
CALSCALE:GREGORIAN
METHOD:PUBLISH
X-ORIGINAL-URL:https://larchenc.org
X-WR-CALDESC:Events for L’Arche North Carolina
REFRESH-INTERVAL;VALUE=DURATION:PT1H
X-Robots-Tag:noindex
X-PUBLISHED-TTL:PT1H
BEGIN:VTIMEZONE
TZID:America/New_York
BEGIN:DAYLIGHT
TZOFFSETFROM:-0500
TZOFFSETTO:-0400
TZNAME:EDT
DTSTART:20230312T070000
END:DAYLIGHT
BEGIN:STANDARD
TZOFFSETFROM:-0400
TZOFFSETTO:-0500
TZNAME:EST
DTSTART:20231105T060000
END:STANDARD
BEGIN:DAYLIGHT
TZOFFSETFROM:-0500
TZOFFSETTO:-0400
TZNAME:EDT
DTSTART:20240310T070000
END:DAYLIGHT
BEGIN:STANDARD
TZOFFSETFROM:-0400
TZOFFSETTO:-0500
TZNAME:EST
DTSTART:20241103T060000
END:STANDARD
BEGIN:DAYLIGHT
TZOFFSETFROM:-0500
TZOFFSETTO:-0400
TZNAME:EDT
DTSTART:20250309T070000
END:DAYLIGHT
BEGIN:STANDARD
TZOFFSETFROM:-0400
TZOFFSETTO:-0500
TZNAME:EST
DTSTART:20251102T060000
END:STANDARD
END:VTIMEZONE
BEGIN:VEVENT
DTSTART;TZID=America/New_York:20240104T140000
DTEND;TZID=America/New_York:20240104T160000
DTSTAMP:20260425T174055
CREATED:20231214T153913Z
LAST-MODIFIED:20231214T153913Z
UID:10000182-1704376800-1704384000@larchenc.org
SUMMARY:Cook Together 🍽️
DESCRIPTION:You’re invited to join new friends and familiar faces at Cook Together 🍽️! This week\, we will be making delicious 😋 coconut truffles! 🥥  Come and have fun with this easy winter ❄️ treat! \nWhat to expect during this afternoon time of food and fellowship: \n1.  We first gather around tables and introduce ourselves. We then ask a get-to-know-you “This or That” question\, such as “Do you like Salty or Savory?” or “Do you prefer the mountains or the beach?”🤔 \n2. Next\, we review the recipe we are making for the day. ✅ \n3. We create the recipe together in groups\, following the step-by-step directions 🔢(No cooking experience is needed to join us ). \n4. We decorate our coconut truffles to look like snowmen! ⛄ \n6. We clean up together and celebrate any exciting news! 🎉 \nSign up here! \nCurrently\, our events and programs are free. If you’d like to donate to make these opportunities more sustainable and available\, please visit larchenc.org/give. We greatly appreciate your contribution!
URL:https://larchenc.org/event/cook-together-%f0%9f%8d%bd%ef%b8%8f/
LOCATION:The Bulla Center\, 301 W Jones St\, Raleigh\, 27603\, United States
CATEGORIES:Community Event
ATTACH;FMTTYPE=image/png:https://larchenc.org/wp-content/uploads/2023/12/January-Events.png
ORGANIZER;CN="L'Arche NC":MAILTO:info@larchenc.org
END:VEVENT
BEGIN:VEVENT
DTSTART;TZID=America/New_York:20240107T150000
DTEND;TZID=America/New_York:20240107T163000
DTSTAMP:20260425T174055
CREATED:20231214T160505Z
LAST-MODIFIED:20231214T182848Z
UID:10000183-1704639600-1704645000@larchenc.org
SUMMARY:Sunday Meetup! 🎲
DESCRIPTION:Miss Sunday Meetups? 😢 No fear! We’re starting them up again! 🎉 \nThe first meet up of this year will be in Durham\, at our very own L’Arche house! 🏡 \n\n\n\nPlease register in advance ✅. We will send the address (located in South Durham about a mile from the Lowe’s on Fayetteville Rd) to everyone by January 6th! \n\n\n\nParking: We kindly ask that those who are able to do so park a bit further down the street. This will help ensure that there is ample parking space closer to the house for those who may have difficulty walking longer distances. Your cooperation in this matter is greatly appreciated and will make the event more accessible for everyone. \n\nAccessibility: As previously noted\, this house is in the process of renovations that are not yet complete\, including an accessible bathroom and entrance to the kitchen. Guests using mobility aids (such as walkers or a wheelchair) will have very limited access during the event. We look forward to the future when everyone visiting the L’Arche house will be able to participate in our community space fully.\n\nSign up here!
URL:https://larchenc.org/event/sunday-meet-up-%f0%9f%8e%b2games/
CATEGORIES:Community Event
ATTACH;FMTTYPE=image/png:https://larchenc.org/wp-content/uploads/2023/12/January-Events-1.png
ORGANIZER;CN="L'Arche NC":MAILTO:info@larchenc.org
END:VEVENT
BEGIN:VEVENT
DTSTART;TZID=America/New_York:20240109T140000
DTEND;TZID=America/New_York:20240109T160000
DTSTAMP:20260425T174055
CREATED:20231214T175011Z
LAST-MODIFIED:20240109T140604Z
UID:10000184-1704808800-1704816000@larchenc.org
SUMMARY:POSTPONED! Craft Together 🎨
DESCRIPTION:You’re invited to join new friends and familiar faces at Craft Together 🎨! \nThis week\, we will doing a workshop with the one and only Debra Wuliger! ✨ Debra is a local artist with a passion for abstract art\, describing it on her website as “the open ended emotional resonance of interlocking shapes and color.” \nBut not only is she an expert at painting\, she is also is an expert at teaching painting! 👩‍🏫 \nDebra has years 🗓️ of experience working with other artists at schools and at her home studio\, where she runs her own art workshops and summer camps. \nThis particular workshop is called “Playing with Shapes and Color!” \nWhat to expect during this time of art and fellowship: \n1.  We first gather around tables and introduce ourselves. We then ask a get-to-know-you “This or That” question\, such as “Do you like Salty or Savory?” or “Do you prefer the mountains or the beach?”🤔 \n2. Next\, Debra will introduce the workshop\, explaining the purpose. ✅ \n3. We will paint for an hour. There are some guidelines\, but this is mostly a free-form exercise. 🖌️ \n4. We will discuss our paintings. 🖼️ \n5. We clean up together and celebrate any exciting news 🎉! \nSign up here! \nCurrently\, our events and programs are free. If you’d like to donate to make these opportunities more sustainable and available\, please visit larchenc.org/give. We greatly appreciate your contribution!
URL:https://larchenc.org/event/craft-together-%f0%9f%8e%a8-2/
LOCATION:The Bulla Center\, 301 W Jones St\, Raleigh\, 27603\, United States
CATEGORIES:Community Event
ATTACH;FMTTYPE=image/jpeg:https://larchenc.org/wp-content/uploads/2023/12/January-Events.jpg
ORGANIZER;CN="L'Arche NC":MAILTO:info@larchenc.org
END:VEVENT
BEGIN:VEVENT
DTSTART;TZID=America/New_York:20240117T123000
DTEND;TZID=America/New_York:20240117T130000
DTSTAMP:20260425T174055
CREATED:20240103T202723Z
LAST-MODIFIED:20240103T202723Z
UID:10000197-1705494600-1705496400@larchenc.org
SUMMARY:Y’all Belong Here
DESCRIPTION:All are welcome to join L’Arche Atlanta and L’Arche North Carolina’s community of people with and without disabilities for our monthly 30-minute interfaith virtual prayer service on the third Wednesday of every month at 12:30pm EST. All religious and/or non-faith traditions are welcome at this gathering. \nEach gathering is about 30 minutes and may include: \n\nWelcome and passing of the peace/sharing hello\nSomething to reflect on\, such as a reading or video\nIndividual reflection\nSharing with small group\nClosing with prayers (community joys & concerns)\n\nHow to Connect\nZoom link: https://us06web.zoom.us/j/87177312701?pwd=M0dNd1VUY0N1VTJVS25LcmxPVFNrZz09\nMeeting ID: 871 7731 2701\nPasscode: 456180 \nOne tap mobile \n+13052241968\,\,87177312701#\,\,\,\,*456180# US \n+13092053325\,\,87177312701#\,\,\,\,*456180# US
URL:https://larchenc.org/event/yall-belong-here-3/2024-01-17/
LOCATION:Online: Zoom
CATEGORIES:Community Event
ATTACH;FMTTYPE=image/png:https://larchenc.org/wp-content/uploads/2023/01/calendar-3.png
ORGANIZER;CN="L'Arche NC":MAILTO:info@larchenc.org
END:VEVENT
BEGIN:VEVENT
DTSTART;TZID=America/New_York:20240118T140000
DTEND;TZID=America/New_York:20240118T150000
DTSTAMP:20260425T174055
CREATED:20231214T182336Z
LAST-MODIFIED:20240117T202030Z
UID:10000185-1705586400-1705590000@larchenc.org
SUMMARY:Play Together 🎲
DESCRIPTION:You’re invited to join new friends and familiar faces at Play Together 🎲\, Thursday\, January 18th from 2-3 PM! \nThis month we will be testing our knowledge with ❓Trivia. This is a Zoom only event\, meaning you must have access to a smart device to participate. Please prepare cards that say A\, B\, C\, or D\, and/or type in the chat the letter of your choice! \nWhat to expect during this afternoon time of fun and fellowship: \n1.  We first gather around and introduce ourselves. We then ask a get-to-know-you “This or That” question\, such as “Do you like Salty or Savory?” or “Do you prefer the mountains or the beach?”🤔 \n2. Next\, we review the rules ✅ \n3. We play the game. There will be three rounds\, with one winner for each round. \n4. If we have time left\, we celebrate life’s victories! 🎉 \n— \nJoin Zoom Meeting\nhttps://us06web.zoom.us/j/84250892791?pwd=MPdvu7hAc1DgZrHb0EpRF8GdLPyjnu.1 \nMeeting ID: 842 5089 2791\nPasscode: 053881 \nOne tap mobile\n+16469313860\,\,84250892791#\,\,\,\,*053881# US\n+13017158592\,\,84250892791#\,\,\,\,*053881# US (Washington DC) \n— \nDial by your location\n• +1 646 931 3860 US\n• +1 301 715 8592 US (Washington DC)\n• +1 305 224 1968 US\n• +1 309 205 3325 US\n• +1 312 626 6799 US (Chicago)\n• +1 646 876 9923 US (New York)\n• +1 408 638 0968 US (San Jose)\n• +1 507 473 4847 US\n• +1 564 217 2000 US\n• +1 669 444 9171 US\n• +1 669 900 6833 US (San Jose)\n• +1 689 278 1000 US\n• +1 719 359 4580 US\n• +1 253 205 0468 US\n• +1 253 215 8782 US (Tacoma)\n• +1 346 248 7799 US (Houston)\n• +1 360 209 5623 US\n• +1 386 347 5053 US \nMeeting ID: 842 5089 2791\nPasscode: 053881 \nFind your local number: https://us06web.zoom.us/u/keEvE2IV0X \n— \nSign up here! \nCurrently\, our events and programs are free. If you’d like to donate to make these opportunities more sustainable and available\, please visit larchenc.org/give. We greatly appreciate your contribution!
URL:https://larchenc.org/event/play-together-%f0%9f%8e%b2/
LOCATION:The Bulla Center\, 301 W Jones St\, Raleigh\, 27603\, United States
CATEGORIES:Community Event
ATTACH;FMTTYPE=image/png:https://larchenc.org/wp-content/uploads/2023/12/January-Events-3.png
ORGANIZER;CN="L'Arche NC":MAILTO:info@larchenc.org
END:VEVENT
BEGIN:VEVENT
DTSTART;TZID=America/New_York:20240123T140000
DTEND;TZID=America/New_York:20240123T160000
DTSTAMP:20260425T174055
CREATED:20231214T200935Z
LAST-MODIFIED:20231214T200935Z
UID:10000186-1706018400-1706025600@larchenc.org
SUMMARY:Serve Together ❤️‍🩹
DESCRIPTION:Introducing our newest event: “Serve Together ❤️‍🩹” ! During “Serve Together”\, we will work on projects to support local non-profits and charities – from dog treats 🦴 to luminaries 🕯️\, we will try our best to give back to the community! \nThe first Serve Together event will be tie blankets! 🛏️ \nWhat to expect during this afternoon time of service  and fellowship: \n1.  We first gather around tables and introduce ourselves. We then ask a get-to-know-you “This or That” question\, such as “Do you like Salty or Savory?” or “Do you prefer the mountains or the beach?”🤔 \n2. Next\, we review the project we are making for the day. ✅ \n3. We create the project together in groups\, following the step-by-step directions 🔢(No cooking experience is needed to join us ). \n4. If we get finished early\, we take a break to play games together. 🎲 \n5. We clean up together and celebrate any exciting news! 🎉 \nSign up here! \nCurrently\, our events and programs are free. If you’d like to donate to make these opportunities more sustainable and available\, please visit larchenc.org/give. We greatly appreciate your contribution!
URL:https://larchenc.org/event/serve-together-%e2%9d%a4%ef%b8%8f%f0%9f%a9%b9/
CATEGORIES:Community Event
ATTACH;FMTTYPE=image/png:https://larchenc.org/wp-content/uploads/2023/12/January-Events-4.png
ORGANIZER;CN="L'Arche NC":MAILTO:info@larchenc.org
END:VEVENT
BEGIN:VEVENT
DTSTART;TZID=America/New_York:20240130T140000
DTEND;TZID=America/New_York:20240130T160000
DTSTAMP:20260425T174055
CREATED:20240109T135726Z
LAST-MODIFIED:20240109T135726Z
UID:10000199-1706623200-1706630400@larchenc.org
SUMMARY:Craft Together 🎨
DESCRIPTION:You’re invited to join new friends and familiar faces at Craft Together 🎨! \nThis week\, we will doing a workshop with the one and only Debra Wuliger! ✨ Debra is a local artist with a passion for abstract art\, describing it on her website as “the open ended emotional resonance of interlocking shapes and color.” \nBut not only is she an expert at painting\, she is also is an expert at teaching painting! 👩‍🏫 \nDebra has years 🗓️ of experience working with other artists at schools and at her home studio\, where she runs her own art workshops and summer camps. \nThis particular workshop is called “Playing with Shapes and Color!” \nWhat to expect during this time of art and fellowship: \n1.  We first gather around tables and introduce ourselves. We then ask a get-to-know-you “This or That” question\, such as “Do you like Salty or Savory?” or “Do you prefer the mountains or the beach?”🤔 \n2. Next\, Debra will introduce the workshop\, explaining the purpose. ✅ \n3. We will paint for an hour. There are some guidelines\, but this is mostly a free-form exercise. 🖌️ \n4. We will discuss our paintings. 🖼️ \n5. We clean up together and celebrate any exciting news 🎉! \nSign up here! \nCurrently\, our events and programs are free. If you’d like to donate to make these opportunities more sustainable and available\, please visit larchenc.org/give. We greatly appreciate your contribution!
URL:https://larchenc.org/event/craft-together-%f0%9f%8e%a8-3/
LOCATION:The Bulla Center\, 301 W Jones St\, Raleigh\, 27603\, United States
CATEGORIES:Community Event
ATTACH;FMTTYPE=image/png:https://larchenc.org/wp-content/uploads/2023/12/January-Events-2.png
ORGANIZER;CN="L'Arche NC":MAILTO:info@larchenc.org
END:VEVENT
END:VCALENDAR