BEGIN:VCALENDAR
VERSION:2.0
PRODID:-//L’Arche North Carolina - ECPv6.15.20//NONSGML v1.0//EN
CALSCALE:GREGORIAN
METHOD:PUBLISH
X-WR-CALNAME:L’Arche North Carolina
X-ORIGINAL-URL:https://larchenc.org
X-WR-CALDESC:Events for L’Arche North Carolina
REFRESH-INTERVAL;VALUE=DURATION:PT1H
X-Robots-Tag:noindex
X-PUBLISHED-TTL:PT1H
BEGIN:VTIMEZONE
TZID:America/New_York
BEGIN:DAYLIGHT
TZOFFSETFROM:-0500
TZOFFSETTO:-0400
TZNAME:EDT
DTSTART:20190310T070000
END:DAYLIGHT
BEGIN:STANDARD
TZOFFSETFROM:-0400
TZOFFSETTO:-0500
TZNAME:EST
DTSTART:20191103T060000
END:STANDARD
BEGIN:DAYLIGHT
TZOFFSETFROM:-0500
TZOFFSETTO:-0400
TZNAME:EDT
DTSTART:20200308T070000
END:DAYLIGHT
BEGIN:STANDARD
TZOFFSETFROM:-0400
TZOFFSETTO:-0500
TZNAME:EST
DTSTART:20201101T060000
END:STANDARD
BEGIN:DAYLIGHT
TZOFFSETFROM:-0500
TZOFFSETTO:-0400
TZNAME:EDT
DTSTART:20210314T070000
END:DAYLIGHT
BEGIN:STANDARD
TZOFFSETFROM:-0400
TZOFFSETTO:-0500
TZNAME:EST
DTSTART:20211107T060000
END:STANDARD
END:VTIMEZONE
BEGIN:VTIMEZONE
TZID:UTC
BEGIN:STANDARD
TZOFFSETFROM:+0000
TZOFFSETTO:+0000
TZNAME:UTC
DTSTART:20180101T000000
END:STANDARD
END:VTIMEZONE
BEGIN:VEVENT
DTSTART;TZID=America/New_York:20200907T190000
DTEND;TZID=America/New_York:20200907T200000
DTSTAMP:20260425T191507
CREATED:20200828T213722Z
LAST-MODIFIED:20200828T213722Z
UID:10000063-1599505200-1599508800@larchenc.org
SUMMARY:Black Disabled Lives Matter
DESCRIPTION:In the 2020 uprising for for black lives\, disabled activists are calling us back to the narratives of black disabled people within the movement of Black Lives Matter. On September 7\, as part of on-going work within the board of L’Arche North Carolina towards dismantling white supremacy and broadening our commitment to anti-racism\, we will center the work\, activism\, and ally ship for black disabled lives in a panel discussion between Mr Kendrick Kemp and the Rev Dr. Latonya McIver Penny. Join us!\n\nMr Kemp is a theologian\, teacher\, preacher\, writer\, father\, disability consultant\, and founder of Black Liberation Theology of Disability.\n\nDr. LaTonya McIver Penny is a wife\, mom\, daughter\, pastor and Executive Director that loves to love\, support\, advocate with and for people of all abilities.
URL:https://larchenc.org/event/black-disabled-lives-matter/
LOCATION:Online at L’Arche NC Live or Facebook
ORGANIZER;CN="L'Arche NC":MAILTO:info@larchenc.org
END:VEVENT
BEGIN:VEVENT
DTSTART;TZID=UTC:20190910T190000
DTEND;TZID=UTC:20190910T200000
DTSTAMP:20260425T191507
CREATED:20190820T223556Z
LAST-MODIFIED:20190820T223556Z
UID:10000062-1568142000-1568145600@larchenc.org
SUMMARY:L'Arche Prayer Night
DESCRIPTION:
URL:https://larchenc.org/event/larche-prayer-night-2/
LOCATION:The Catholic Community of St. Francis of Assisi\, 11401 Leesville Rd.\, Raleigh\, NC\, 27613\, United States
ATTACH;FMTTYPE=image/jpeg:https://larchenc.org/wp-content/uploads/2019/08/LArche-Prayer-Night-9-10.jpg
ORGANIZER;CN="L'Arche NC":MAILTO:info@larchenc.org
END:VEVENT
BEGIN:VEVENT
DTSTART;TZID=UTC:20190502T180000
DTEND;TZID=UTC:20190502T190000
DTSTAMP:20260425T191507
CREATED:20190401T034228Z
LAST-MODIFIED:20190416T190654Z
UID:10000040-1556820000-1556823600@larchenc.org
SUMMARY:L'Arche Prayer Night
DESCRIPTION:Discover the spirituality of L’Arche by joining us for prayer night. We will reflect on God’s love with song\, liturgy\, art\, and discussion. Prayer night is accessible for people with intellectual disabilities and open to anyone who wishes to learn more about L’Arche. \n\n\n\nNo RSVP is required! However\, if you’d like to let us know you’re coming\, visit our Facebook event\, and share with your friends!
URL:https://larchenc.org/event/larche-prayer-night/
LOCATION:Duke Memorial United Methodist Church\, 504 W Chapel Hill St\, Durham\, NC\, 27701\, United States
ATTACH;FMTTYPE=image/jpeg:https://larchenc.org/wp-content/uploads/2019/04/56862448_2152145984880963_6230485859741728768_n.jpg
ORGANIZER;CN="L'Arche NC":MAILTO:info@larchenc.org
END:VEVENT
END:VCALENDAR