BEGIN:VCALENDAR
VERSION:2.0
PRODID:-//L’Arche North Carolina - ECPv6.15.20//NONSGML v1.0//EN
CALSCALE:GREGORIAN
METHOD:PUBLISH
X-ORIGINAL-URL:https://larchenc.org
X-WR-CALDESC:Events for L’Arche North Carolina
REFRESH-INTERVAL;VALUE=DURATION:PT1H
X-Robots-Tag:noindex
X-PUBLISHED-TTL:PT1H
BEGIN:VTIMEZONE
TZID:America/New_York
BEGIN:DAYLIGHT
TZOFFSETFROM:-0500
TZOFFSETTO:-0400
TZNAME:EDT
DTSTART:20200308T070000
END:DAYLIGHT
BEGIN:STANDARD
TZOFFSETFROM:-0400
TZOFFSETTO:-0500
TZNAME:EST
DTSTART:20201101T060000
END:STANDARD
BEGIN:DAYLIGHT
TZOFFSETFROM:-0500
TZOFFSETTO:-0400
TZNAME:EDT
DTSTART:20210314T070000
END:DAYLIGHT
BEGIN:STANDARD
TZOFFSETFROM:-0400
TZOFFSETTO:-0500
TZNAME:EST
DTSTART:20211107T060000
END:STANDARD
BEGIN:DAYLIGHT
TZOFFSETFROM:-0500
TZOFFSETTO:-0400
TZNAME:EDT
DTSTART:20220313T070000
END:DAYLIGHT
BEGIN:STANDARD
TZOFFSETFROM:-0400
TZOFFSETTO:-0500
TZNAME:EST
DTSTART:20221106T060000
END:STANDARD
BEGIN:DAYLIGHT
TZOFFSETFROM:-0500
TZOFFSETTO:-0400
TZNAME:EDT
DTSTART:20230312T070000
END:DAYLIGHT
BEGIN:STANDARD
TZOFFSETFROM:-0400
TZOFFSETTO:-0500
TZNAME:EST
DTSTART:20231105T060000
END:STANDARD
END:VTIMEZONE
BEGIN:VEVENT
DTSTART;TZID=America/New_York:20220630T180000
DTEND;TZID=America/New_York:20220630T190000
DTSTAMP:20260424T232319
CREATED:20220519T154907Z
LAST-MODIFIED:20220804T232416Z
UID:10000002-1656612000-1656615600@larchenc.org
SUMMARY:Disability & Pride: A Panel Discussion
DESCRIPTION:Join L’Arche communities from Portland\, Tacoma\, and North Carolina for a virtual conversation on the intersections of Disabilities & Pride. Keynote speakers\, panelists\, and artists will reflect on what LGBTQIA means to the\, and how we can create more accessible\, inclusive communities across the country and beyond! \nRegister in advance at tinyurl.com/larchepride\n  \n ChrisTiana ObeySumner – Keynote Speaker \n\nChrisTiana ObeySumner is a Black/ Indigenous\, queer\, non-binary\, and multiply disabled person\, community organizer and activist. They are CEO and principal consultant of Epiphanies of Equity LLC — A social equity consulting firm that particularly specializes in social change\, intersectionality\, antiracism\, and disability justice. For two decades\, they’ve dedicated their life and career to amplifying the importance of social equity – defined as the lifelong work of deconstructing inequitable sociological impacts and products such as policies\, institutions\, cultures\, biases\, and constructs; and facilitating strategic and embodied pathways towards the construction of equitable processes\, accountability structures\, and outcomes. \n\n  \n  \nDeanna Parvin Yadollahi – Artist & Panelist \nDeanna Parvin Yadollahi (they/them) is a fat\, disabled\, neurodivergent\, mad\, non-binary\, diasporic mixed-race Iranian and Toltec-Mexican community activist\, friend\, and dog parent. Deanna’s scholar-art-activism is informed by their lived experience and both with and for their communities. Deanna is passionate about collaboratively undoing ableism and intersecting oppressions\, especially as it relates to collective accessibility. They hope to enact institutional change and radical reimagination that will lead to more supportive and just realities. Deanna enjoys making connections with people and journeying with others to find creative ways to navigate a world that wasn’t made for all of us. Deanna’s work includes community-building\, resource-creating\, presenting\, writing\, being an access doula\, and Deanna’s Creative Access Consulting practice. Their work is based in deep appreciation for disability justice\, which is intersectional and calls for cross-movement solidarity as well as community-advocated accessibility practices. Deanna is pursuing a Master’s degree in Disability Studies\, and most highly values knowledge that is co-created within their communities. Deanna acknowledges\, with respect\, that they are a settler on the lands of the Kizh Nation. They support the LandBack movement\, Climate Justice\, acknowledging historic and intergenerational oppression\, and dismantling its continuations today. At this time\, you can follow Deanna on instagram @undoing_ableism and visit Deanna’s working draft website (bit.ly/D-Y-Scholarship)! \nRebecca Schultz – Artist \n\nRebekah Schultz is an artist and second year graduate student at Duke Divinity School\, studying the intersection of theology and art. She works in acrylic painting and wood block printing\, exploring art as worship\, prayer\, protest\, and joy. Her art often reflects on the community she’s in and portrays the people around her. Currently\, Rebekah lives in an intentional community of Disabled young adults and Duke students who share meals\, prayers\, game nights\, and life together. Rebekah’s art has been published in the Children and Youth Artist’s Grief Deck by Artists’ Literacies Institute. She also received the 2022 C. Eric Lincoln Theology and Arts Fellowship from Duke University Chapel for her collection of prints: “Communion of Saints: A Reflection on the Body of Christ Through Time and Space.” \n\n  \nNicholas Herd – Panelist \n\nNicholas Herd is an accomplished actor\, artist\, and Disability advocate. In 2007\, Nicholas became one of the founding members of L’Arche Toronto’s Sol-Express Theatre Arts Program. His work has been featured and performed in many festivals across Canada. Nicholas also hosts a talk show\, currently on The Disability Channel\, called “Keeping it Real with Nick”. Nicholas was recently appointed Creative Advocacy Head Director with L’Arche Canada. Nicholas worked as Creative Director with the team that produced an animated video to accompany singer Jordan Hart’s song “Freedom”. The film’s success made Nicholas the first filmmaker with Down Syndrome to be long-listed for an Academy Award. He is committed to advocating for those with disabilities\, and strives to be a role model for all people with disabilities trying to live their lives authentically and courageously. \n  \n \n\nRebel Black – Panelist \nRebel Black (he/him pronouns) is a queer\, agender\, multiracial person with a history of poverty and houselessness. He lives with multiple disabilities that are the source of his creativity and generative processes. Rebel is the founder and President of Disability Justice Dreaming\, a Portland OR-based\, inter/national Disability Justice gathering space that focuses on disabled art\, justice\, culture\, leadership\, and more\, by and for Queer and Trans (QT) + Black\, Indigenous\, Multiracial\, and People of Color (BIPOC). As their mission says\, “From our beds and our ventilators\, we think generationally and work for liberation and a reindigenized world.” \nIn November\, Rebel has been invited to Vancouver B.C. as a guest artist at the Vancouver Art Gallery. He will bring the Disability Justice Dreaming Sessions he designed to the museum and to Disabled communities in Vancouver. Part of Rebel’s dream is to pollinate cross-border Disability Justice relationships and hopefully bring the Dreaming Sessions to other galleries\, museums\, and community spaces within the United States and Canada. \nAzrael Burton – Panelist \nAzrael Burton (xe/they) is a queer\, neurodivergent\, interracial college student working toward a degree in Women and Gender Studies with a Minor in Sexuality Studies. Xe is driven by furthering sex education into a more intersectional arena\, as xis lived experience is inherently intersectional. They believe marginalized voices are often neglected in academic conversations surrounding gender\, sex\, and sexuality and strives to uplift those primary source experiences as equally important.
URL:https://larchenc.org/event/disabilityandpride/
CATEGORIES:Learn Together
END:VEVENT
BEGIN:VEVENT
DTSTART;TZID=America/New_York:20220616T180000
DTEND;TZID=America/New_York:20220616T193000
DTSTAMP:20260424T232319
CREATED:20220516T184352Z
LAST-MODIFIED:20220804T205321Z
UID:10000001-1655402400-1655407800@larchenc.org
SUMMARY:Cooking with Community: Dog Treats for Donation
DESCRIPTION:Join us for an evening of cooking dog treats for donation to a local shelter! We will be gathering to cook in the kitchen space of Duke Memorial United Methodist Church in Durham\, NC. A pizza dinner will be provided for all who attend. \nRegistration will be capped at 30 people. \nTo attend\, please RSVP here! \nPlease note that the recipe we will be following will use peanut butter. Please exercise caution if you or a loved one have an allergy\, as we cannot guarantee there will not be cross-contamination.
URL:https://larchenc.org/event/dogtreats/
CATEGORIES:Community Event
END:VEVENT
BEGIN:VEVENT
DTSTART;TZID=America/New_York:20220615T140000
DTEND;TZID=America/New_York:20220615T150000
DTSTAMP:20260424T232319
CREATED:20220526T134645Z
LAST-MODIFIED:20220804T205232Z
UID:10000006-1655301600-1655305200@larchenc.org
SUMMARY:Y'All Belong Here: an inclusive sacred space
DESCRIPTION:All are welcome to join L’Arche Atlanta and L’Arche North Carolina’s community of people with and without disabilities for our monthly interfaith virtual prayer service. All religious and/or non-faith traditions are welcome in this gathering. \nWhen\nThe third Wednesday of every month at 2:00pm EST \nEach gathering is about 30 minutes and includes: \n\nWelcome and passing of the peace/sharing hello\nSomething to reflect on\, such as a reading or video\nIndividual reflection\nSharing with a small group\nClosing with community prayers of joys and/or concerns\n\nHow to Connect\nConnect via Zoom — you can download Zoom on a computer\, laptop\, iPad\, or smartphone. \nZoom link:\nhttps://us06web.zoom.us/j/88914676024?pwd=bkQ4NElGVGdMbEpGV1F3aVV0cGFzdz09 \nMeeting ID: 889 1467 6024\nPasscode: 924569 \nOne tap mobile\n+16468769923\,\,88914676024#\,\,\,\,*924569# \nWhat You Need\nYou are welcome to bring paper and something to draw with\, if you would like to draw during the personal reflection time. \n 
URL:https://larchenc.org/event/yall-belong-here-an-inclusive-sacred-space-19/
CATEGORIES:Community Event
END:VEVENT
BEGIN:VEVENT
DTSTART;TZID=America/New_York:20210624T190000
DTEND;TZID=America/New_York:20210624T200000
DTSTAMP:20260424T232319
CREATED:20210514T154445Z
LAST-MODIFIED:20210514T182227Z
UID:10000041-1624561200-1624564800@larchenc.org
SUMMARY:commUNITY karaoke - Summer Fun!
DESCRIPTION:Join L’Arche Frederick\, L’Arche Long Island\, and L’Arche North Carolina for a fun-filled musical evening on Zoom! \nThe theme for the evening is SUMMER BEACH FUN. For fun\, you’re welcome to come in your favorite Hawaiian shirt\, beach hat\, and/or sunglasses!  All are welcome to attend this Solidarity Social. We ask that participants attend with any supports needed so that all might engage fully. If there are any accommodations that we might offer\, please email info@larchenc.org.
URL:https://larchenc.org/event/community-karaoke-summer-fun/
CATEGORIES:Community Event
END:VEVENT
END:VCALENDAR