BEGIN:VCALENDAR
VERSION:2.0
PRODID:-//L’Arche North Carolina - ECPv6.15.20//NONSGML v1.0//EN
CALSCALE:GREGORIAN
METHOD:PUBLISH
X-ORIGINAL-URL:https://larchenc.org
X-WR-CALDESC:Events for L’Arche North Carolina
REFRESH-INTERVAL;VALUE=DURATION:PT1H
X-Robots-Tag:noindex
X-PUBLISHED-TTL:PT1H
BEGIN:VTIMEZONE
TZID:America/New_York
BEGIN:DAYLIGHT
TZOFFSETFROM:-0500
TZOFFSETTO:-0400
TZNAME:EDT
DTSTART:20250309T070000
END:DAYLIGHT
BEGIN:STANDARD
TZOFFSETFROM:-0400
TZOFFSETTO:-0500
TZNAME:EST
DTSTART:20251102T060000
END:STANDARD
BEGIN:DAYLIGHT
TZOFFSETFROM:-0500
TZOFFSETTO:-0400
TZNAME:EDT
DTSTART:20260308T070000
END:DAYLIGHT
BEGIN:STANDARD
TZOFFSETFROM:-0400
TZOFFSETTO:-0500
TZNAME:EST
DTSTART:20261101T060000
END:STANDARD
BEGIN:DAYLIGHT
TZOFFSETFROM:-0500
TZOFFSETTO:-0400
TZNAME:EDT
DTSTART:20270314T070000
END:DAYLIGHT
BEGIN:STANDARD
TZOFFSETFROM:-0400
TZOFFSETTO:-0500
TZNAME:EST
DTSTART:20271107T060000
END:STANDARD
END:VTIMEZONE
BEGIN:VEVENT
DTSTART;TZID=America/New_York:20260414T140000
DTEND;TZID=America/New_York:20260414T150000
DTSTAMP:20260423T185428
CREATED:20260401T154135Z
LAST-MODIFIED:20260401T154136Z
UID:10000649-1776175200-1776178800@larchenc.org
SUMMARY:Jam Together!
DESCRIPTION:Join us for Jam Together! 🎶 \nLed by some of our talented musical friends\, Jam Together focuses on creating and appreciating sound\, whether it’s singing together or playing instruments! So whether you’re a maker of music or just an appreciator – this event is for you! \nJoin us from 2-3PM\, at the Bulla Center – 301 West Jones St\, Raleigh NC.
URL:https://larchenc.org/event/jam-together-14-2-3-2-2-2-2/
LOCATION:The Bulla Center\, 301 W Jones St\, Raleigh\, 27603\, United States
CATEGORIES:Jam Together
ATTACH;FMTTYPE=image/png:https://larchenc.org/wp-content/uploads/2025/08/Together-Series-Logos-5.png
ORGANIZER;CN="L'Arche NC":MAILTO:info@larchenc.org
END:VEVENT
BEGIN:VEVENT
DTSTART;TZID=America/New_York:20260512T140000
DTEND;TZID=America/New_York:20260512T150000
DTSTAMP:20260423T185428
CREATED:20260401T113250Z
LAST-MODIFIED:20260401T113250Z
UID:10000654-1778594400-1778598000@larchenc.org
SUMMARY:Jam Together!
DESCRIPTION:Join us for Jam Together! 🎶 \nLed by some of our talented musical friends\, Jam Together focuses on creating and appreciating sound\, whether it’s singing together or playing instruments! So whether you’re a maker of music or just an appreciator – this event is for you! \nJoin us from 2-3PM\, at the Bulla Center – 301 West Jones St\, Raleigh NC.
URL:https://larchenc.org/event/jam-together-14-2-3-2-2-2/2026-05-12/
LOCATION:The Bulla Center\, 301 W Jones St\, Raleigh\, 27603\, United States
CATEGORIES:Jam Together
ATTACH;FMTTYPE=image/png:https://larchenc.org/wp-content/uploads/2025/08/Together-Series-Logos-5.png
ORGANIZER;CN="L'Arche NC":MAILTO:info@larchenc.org
END:VEVENT
BEGIN:VEVENT
DTSTART;TZID=America/New_York:20260609T140000
DTEND;TZID=America/New_York:20260609T150000
DTSTAMP:20260423T185428
CREATED:20260401T113250Z
LAST-MODIFIED:20260401T113250Z
UID:10000655-1781013600-1781017200@larchenc.org
SUMMARY:Jam Together!
DESCRIPTION:Join us for Jam Together! 🎶 \nLed by some of our talented musical friends\, Jam Together focuses on creating and appreciating sound\, whether it’s singing together or playing instruments! So whether you’re a maker of music or just an appreciator – this event is for you! \nJoin us from 2-3PM\, at the Bulla Center – 301 West Jones St\, Raleigh NC.
URL:https://larchenc.org/event/jam-together-14-2-3-2-2-2/2026-06-09/
LOCATION:The Bulla Center\, 301 W Jones St\, Raleigh\, 27603\, United States
CATEGORIES:Jam Together
ATTACH;FMTTYPE=image/png:https://larchenc.org/wp-content/uploads/2025/08/Together-Series-Logos-5.png
ORGANIZER;CN="L'Arche NC":MAILTO:info@larchenc.org
END:VEVENT
END:VCALENDAR