BEGIN:VCALENDAR
VERSION:2.0
PRODID:-//L’Arche North Carolina - ECPv6.15.20//NONSGML v1.0//EN
CALSCALE:GREGORIAN
METHOD:PUBLISH
X-WR-CALNAME:L’Arche North Carolina
X-ORIGINAL-URL:https://larchenc.org
X-WR-CALDESC:Events for L’Arche North Carolina
REFRESH-INTERVAL;VALUE=DURATION:PT1H
X-Robots-Tag:noindex
X-PUBLISHED-TTL:PT1H
BEGIN:VTIMEZONE
TZID:America/New_York
BEGIN:DAYLIGHT
TZOFFSETFROM:-0500
TZOFFSETTO:-0400
TZNAME:EDT
DTSTART:20240310T070000
END:DAYLIGHT
BEGIN:STANDARD
TZOFFSETFROM:-0400
TZOFFSETTO:-0500
TZNAME:EST
DTSTART:20241103T060000
END:STANDARD
BEGIN:DAYLIGHT
TZOFFSETFROM:-0500
TZOFFSETTO:-0400
TZNAME:EDT
DTSTART:20250309T070000
END:DAYLIGHT
BEGIN:STANDARD
TZOFFSETFROM:-0400
TZOFFSETTO:-0500
TZNAME:EST
DTSTART:20251102T060000
END:STANDARD
BEGIN:DAYLIGHT
TZOFFSETFROM:-0500
TZOFFSETTO:-0400
TZNAME:EDT
DTSTART:20260308T070000
END:DAYLIGHT
BEGIN:STANDARD
TZOFFSETFROM:-0400
TZOFFSETTO:-0500
TZNAME:EST
DTSTART:20261101T060000
END:STANDARD
BEGIN:DAYLIGHT
TZOFFSETFROM:-0500
TZOFFSETTO:-0400
TZNAME:EDT
DTSTART:20270314T070000
END:DAYLIGHT
BEGIN:STANDARD
TZOFFSETFROM:-0400
TZOFFSETTO:-0500
TZNAME:EST
DTSTART:20271107T060000
END:STANDARD
END:VTIMEZONE
BEGIN:VEVENT
DTSTART;TZID=America/New_York:20260414T140000
DTEND;TZID=America/New_York:20260414T150000
DTSTAMP:20260423T125755
CREATED:20260401T154135Z
LAST-MODIFIED:20260401T154136Z
UID:10000649-1776175200-1776178800@larchenc.org
SUMMARY:Jam Together!
DESCRIPTION:Join us for Jam Together! 🎶 \nLed by some of our talented musical friends\, Jam Together focuses on creating and appreciating sound\, whether it’s singing together or playing instruments! So whether you’re a maker of music or just an appreciator – this event is for you! \nJoin us from 2-3PM\, at the Bulla Center – 301 West Jones St\, Raleigh NC.
URL:https://larchenc.org/event/jam-together-14-2-3-2-2-2-2/
LOCATION:The Bulla Center\, 301 W Jones St\, Raleigh\, 27603\, United States
CATEGORIES:Jam Together
ATTACH;FMTTYPE=image/png:https://larchenc.org/wp-content/uploads/2025/08/Together-Series-Logos-5.png
ORGANIZER;CN="L'Arche NC":MAILTO:info@larchenc.org
END:VEVENT
BEGIN:VEVENT
DTSTART;TZID=America/New_York:20260317T140000
DTEND;TZID=America/New_York:20260317T150000
DTSTAMP:20260423T125755
CREATED:20260225T183039Z
LAST-MODIFIED:20260225T183043Z
UID:10000569-1773756000-1773759600@larchenc.org
SUMMARY:Jam Together!
DESCRIPTION:Join us for Jam Together! 🎶 \nLed by some of our talented musical friends\, Jam Together focuses on creating and appreciating sound\, whether it’s singing together or playing instruments! So whether you’re a maker of music or just an appreciator – this event is for you! \nJoin us from 2-3PM\, at the Bulla Center – 301 West Jones St\, Raleigh NC.
URL:https://larchenc.org/event/jam-together-14-2-3-2-2/
LOCATION:The Bulla Center\, 301 W Jones St\, Raleigh\, 27603\, United States
CATEGORIES:Jam Together
ATTACH;FMTTYPE=image/png:https://larchenc.org/wp-content/uploads/2025/08/Together-Series-Logos-5.png
ORGANIZER;CN="L'Arche NC":MAILTO:info@larchenc.org
END:VEVENT
BEGIN:VEVENT
DTSTART;TZID=America/New_York:20260210T140000
DTEND;TZID=America/New_York:20260210T150000
DTSTAMP:20260423T125755
CREATED:20260121T180829Z
LAST-MODIFIED:20260121T180833Z
UID:10000568-1770732000-1770735600@larchenc.org
SUMMARY:Jam Together!
DESCRIPTION:Join us for Jam Together! 🎶 \nLed by some of our talented musical friends\, Jam Together focuses on creating and appreciating sound\, whether it’s singing together or playing instruments! So whether you’re a maker of music or just an appreciator – this event is for you! \nJoin us from 2-3PM\, at the Bulla Center – 301 West Jones St\, Raleigh NC.
URL:https://larchenc.org/event/jam-together-14-2-3-2/2026-02-10/
LOCATION:The Bulla Center\, 301 W Jones St\, Raleigh\, 27603\, United States
CATEGORIES:Jam Together
ATTACH;FMTTYPE=image/png:https://larchenc.org/wp-content/uploads/2025/08/Together-Series-Logos-5.png
ORGANIZER;CN="L'Arche NC":MAILTO:info@larchenc.org
END:VEVENT
BEGIN:VEVENT
DTSTART;TZID=America/New_York:20260113T140000
DTEND;TZID=America/New_York:20260113T150000
DTSTAMP:20260423T125755
CREATED:20260121T180829Z
LAST-MODIFIED:20260121T180833Z
UID:10000567-1768312800-1768316400@larchenc.org
SUMMARY:Jam Together!
DESCRIPTION:Join us for Jam Together! 🎶 \nLed by some of our talented musical friends\, Jam Together focuses on creating and appreciating sound\, whether it’s singing together or playing instruments! So whether you’re a maker of music or just an appreciator – this event is for you! \nJoin us from 2-3PM\, at the Bulla Center – 301 West Jones St\, Raleigh NC.
URL:https://larchenc.org/event/jam-together-14-2-3-2/2026-01-13/
LOCATION:The Bulla Center\, 301 W Jones St\, Raleigh\, 27603\, United States
CATEGORIES:Jam Together
ATTACH;FMTTYPE=image/png:https://larchenc.org/wp-content/uploads/2025/08/Together-Series-Logos-5.png
ORGANIZER;CN="L'Arche NC":MAILTO:info@larchenc.org
END:VEVENT
BEGIN:VEVENT
DTSTART;TZID=America/New_York:20251209T140000
DTEND;TZID=America/New_York:20251209T150000
DTSTAMP:20260423T125755
CREATED:20251027T194548Z
LAST-MODIFIED:20251027T194548Z
UID:10000566-1765288800-1765292400@larchenc.org
SUMMARY:Jam Together!
DESCRIPTION:Join us for Jam Together! 🎶 \nLed by some of our talented musical friends\, Jam Together focuses on creating and appreciating sound\, whether it’s singing together or playing instruments! So whether you’re a maker of music or just an appreciator – this event is for you! \nJoin us from 2-3PM\, at the Bulla Center – 301 West Jones St\, Raleigh NC.
URL:https://larchenc.org/event/jam-together-14-2-3/
LOCATION:The Bulla Center\, 301 W Jones St\, Raleigh\, 27603\, United States
CATEGORIES:Jam Together
ATTACH;FMTTYPE=image/png:https://larchenc.org/wp-content/uploads/2025/08/Together-Series-Logos-5.png
ORGANIZER;CN="L'Arche NC":MAILTO:info@larchenc.org
END:VEVENT
BEGIN:VEVENT
DTSTART;TZID=America/New_York:20251111T140000
DTEND;TZID=America/New_York:20251111T150000
DTSTAMP:20260423T125755
CREATED:20251010T192259Z
LAST-MODIFIED:20251010T192300Z
UID:10000565-1762869600-1762873200@larchenc.org
SUMMARY:Jam Together!
DESCRIPTION:Join us for Jam Together! 🎶 \nLed by some of our talented musical friends\, Jam Together focuses on creating and appreciating sound\, whether it’s singing together or playing instruments! So whether you’re a maker of music or just an appreciator – this event is for you! \nJoin us from 2-3PM\, at the Bulla Center – 301 West Jones St\, Raleigh NC.
URL:https://larchenc.org/event/jam-together-14-2-2/
LOCATION:The Bulla Center\, 301 W Jones St\, Raleigh\, 27603\, United States
CATEGORIES:Jam Together
ATTACH;FMTTYPE=image/png:https://larchenc.org/wp-content/uploads/2025/08/Together-Series-Logos-5.png
ORGANIZER;CN="L'Arche NC":MAILTO:info@larchenc.org
END:VEVENT
BEGIN:VEVENT
DTSTART;TZID=America/New_York:20251014T140000
DTEND;TZID=America/New_York:20251014T150000
DTSTAMP:20260423T125755
CREATED:20250916T171356Z
LAST-MODIFIED:20250916T171357Z
UID:10000564-1760450400-1760454000@larchenc.org
SUMMARY:Jam Together!
DESCRIPTION:Join us for Jam Together! 🎶 \nLed by some of our talented musical friends\, Jam Together focuses on creating and appreciating sound\, whether it’s singing together or playing instruments! So whether you’re a maker of music or just an appreciator – this event is for you! \nJoin us from 2-3PM\, at the Bulla Center – 301 West Jones St\, Raleigh NC.
URL:https://larchenc.org/event/jam-together-14-2/
LOCATION:The Bulla Center\, 301 W Jones St\, Raleigh\, 27603\, United States
CATEGORIES:Jam Together
ATTACH;FMTTYPE=image/png:https://larchenc.org/wp-content/uploads/2025/08/Together-Series-Logos-5.png
ORGANIZER;CN="L'Arche NC":MAILTO:info@larchenc.org
END:VEVENT
BEGIN:VEVENT
DTSTART;TZID=America/New_York:20250909T140000
DTEND;TZID=America/New_York:20250909T150000
DTSTAMP:20260423T125755
CREATED:20250822T184011Z
LAST-MODIFIED:20250910T171116Z
UID:10000463-1757426400-1757430000@larchenc.org
SUMMARY:Jam Together!
DESCRIPTION:Join us for Jam Together! 🎶 \nLed by some of our talented musical friends\, Jam Together focuses on creating and appreciating sound\, whether it’s singing together or playing instruments! So whether you’re a maker of music or just an appreciator – this event is for you! \nJoin us from 2-3PM\, at the Bulla Center – 301 West Jones St\, Raleigh NC.
URL:https://larchenc.org/event/jam-together-14/
LOCATION:The Bulla Center\, 301 W Jones St\, Raleigh\, 27603\, United States
CATEGORIES:Jam Together
ATTACH;FMTTYPE=image/png:https://larchenc.org/wp-content/uploads/2025/08/Together-Series-Logos-5.png
ORGANIZER;CN="L'Arche NC":MAILTO:info@larchenc.org
END:VEVENT
END:VCALENDAR