BEGIN:VCALENDAR
VERSION:2.0
PRODID:-//L’Arche North Carolina - ECPv6.15.20//NONSGML v1.0//EN
CALSCALE:GREGORIAN
METHOD:PUBLISH
X-WR-CALNAME:L’Arche North Carolina
X-ORIGINAL-URL:https://larchenc.org
X-WR-CALDESC:Events for L’Arche North Carolina
REFRESH-INTERVAL;VALUE=DURATION:PT1H
X-Robots-Tag:noindex
X-PUBLISHED-TTL:PT1H
BEGIN:VTIMEZONE
TZID:America/New_York
BEGIN:DAYLIGHT
TZOFFSETFROM:-0500
TZOFFSETTO:-0400
TZNAME:EDT
DTSTART:20230312T070000
END:DAYLIGHT
BEGIN:STANDARD
TZOFFSETFROM:-0400
TZOFFSETTO:-0500
TZNAME:EST
DTSTART:20231105T060000
END:STANDARD
BEGIN:DAYLIGHT
TZOFFSETFROM:-0500
TZOFFSETTO:-0400
TZNAME:EDT
DTSTART:20240310T070000
END:DAYLIGHT
BEGIN:STANDARD
TZOFFSETFROM:-0400
TZOFFSETTO:-0500
TZNAME:EST
DTSTART:20241103T060000
END:STANDARD
BEGIN:DAYLIGHT
TZOFFSETFROM:-0500
TZOFFSETTO:-0400
TZNAME:EDT
DTSTART:20250309T070000
END:DAYLIGHT
BEGIN:STANDARD
TZOFFSETFROM:-0400
TZOFFSETTO:-0500
TZNAME:EST
DTSTART:20251102T060000
END:STANDARD
BEGIN:DAYLIGHT
TZOFFSETFROM:-0500
TZOFFSETTO:-0400
TZNAME:EDT
DTSTART:20260308T070000
END:DAYLIGHT
BEGIN:STANDARD
TZOFFSETFROM:-0400
TZOFFSETTO:-0500
TZNAME:EST
DTSTART:20261101T060000
END:STANDARD
BEGIN:DAYLIGHT
TZOFFSETFROM:-0500
TZOFFSETTO:-0400
TZNAME:EDT
DTSTART:20270314T070000
END:DAYLIGHT
BEGIN:STANDARD
TZOFFSETFROM:-0400
TZOFFSETTO:-0500
TZNAME:EST
DTSTART:20271107T060000
END:STANDARD
END:VTIMEZONE
BEGIN:VEVENT
DTSTART;TZID=America/New_York:20260326T140000
DTEND;TZID=America/New_York:20260326T160000
DTSTAMP:20260423T131406
CREATED:20251028T180916Z
LAST-MODIFIED:20260121T174902Z
UID:10000640-1774533600-1774540800@larchenc.org
SUMMARY:Craft Together!
DESCRIPTION:You’re invited to join new friends and familiar faces at Craft Together 🎨! \n\nJoin us at The Bulla Center  (301 West Jones St\, Raleigh NC) for an afternoon of craft and fellowship. All supplies are provided. \nWhat to expect: \n1.  We first gather around tables and introduce ourselves. We then ask a get-to-know-you “This or That” question\, such as “Do you like Salty or Savory?” or “Do you prefer the mountains or the beach?”🤔 \n2. Next\, we review the craft we are making for the day. ✅ \n3. We craft together\, following instructions\, but still putting our own spin on it. \n4. We present our designs\, and talk about them. \n5. We clean up together and chat about the new things in our life! \n\nDon’t forget to sign up in advance!
URL:https://larchenc.org/event/craft-together-15-2-3-2/2026-03-26/
LOCATION:The Bulla Center\, 301 W Jones St\, Raleigh\, 27603\, United States
CATEGORIES:Craft Together
ATTACH;FMTTYPE=image/png:https://larchenc.org/wp-content/uploads/2025/08/Craft-Together-e1732396392131.png
ORGANIZER;CN="L'Arche NC":MAILTO:info@larchenc.org
END:VEVENT
BEGIN:VEVENT
DTSTART;TZID=America/New_York:20260226T140000
DTEND;TZID=America/New_York:20260226T160000
DTSTAMP:20260423T131406
CREATED:20251028T180916Z
LAST-MODIFIED:20260121T174902Z
UID:10000639-1772114400-1772121600@larchenc.org
SUMMARY:Craft Together!
DESCRIPTION:You’re invited to join new friends and familiar faces at Craft Together 🎨! \n\nJoin us at The Bulla Center  (301 West Jones St\, Raleigh NC) for an afternoon of craft and fellowship. All supplies are provided. \nWhat to expect: \n1.  We first gather around tables and introduce ourselves. We then ask a get-to-know-you “This or That” question\, such as “Do you like Salty or Savory?” or “Do you prefer the mountains or the beach?”🤔 \n2. Next\, we review the craft we are making for the day. ✅ \n3. We craft together\, following instructions\, but still putting our own spin on it. \n4. We present our designs\, and talk about them. \n5. We clean up together and chat about the new things in our life! \n\nDon’t forget to sign up in advance!
URL:https://larchenc.org/event/craft-together-15-2-3-2/2026-02-26/
LOCATION:The Bulla Center\, 301 W Jones St\, Raleigh\, 27603\, United States
CATEGORIES:Craft Together
ATTACH;FMTTYPE=image/png:https://larchenc.org/wp-content/uploads/2025/08/Craft-Together-e1732396392131.png
ORGANIZER;CN="L'Arche NC":MAILTO:info@larchenc.org
END:VEVENT
BEGIN:VEVENT
DTSTART;TZID=America/New_York:20260122T140000
DTEND;TZID=America/New_York:20260122T160000
DTSTAMP:20260423T131406
CREATED:20251028T180916Z
LAST-MODIFIED:20260121T174902Z
UID:10000636-1769090400-1769097600@larchenc.org
SUMMARY:Craft Together!
DESCRIPTION:You’re invited to join new friends and familiar faces at Craft Together 🎨! \n\nJoin us at The Bulla Center  (301 West Jones St\, Raleigh NC) for an afternoon of craft and fellowship. All supplies are provided. \nWhat to expect: \n1.  We first gather around tables and introduce ourselves. We then ask a get-to-know-you “This or That” question\, such as “Do you like Salty or Savory?” or “Do you prefer the mountains or the beach?”🤔 \n2. Next\, we review the craft we are making for the day. ✅ \n3. We craft together\, following instructions\, but still putting our own spin on it. \n4. We present our designs\, and talk about them. \n5. We clean up together and chat about the new things in our life! \n\nDon’t forget to sign up in advance!
URL:https://larchenc.org/event/craft-together-15-2-3-2/2026-01-22/
LOCATION:The Bulla Center\, 301 W Jones St\, Raleigh\, 27603\, United States
CATEGORIES:Craft Together
ATTACH;FMTTYPE=image/png:https://larchenc.org/wp-content/uploads/2025/08/Craft-Together-e1732396392131.png
ORGANIZER;CN="L'Arche NC":MAILTO:info@larchenc.org
END:VEVENT
BEGIN:VEVENT
DTSTART;TZID=America/New_York:20251218T140000
DTEND;TZID=America/New_York:20251218T160000
DTSTAMP:20260423T131406
CREATED:20251027T194623Z
LAST-MODIFIED:20251027T194623Z
UID:10000489-1766066400-1766073600@larchenc.org
SUMMARY:Craft Together!
DESCRIPTION:You’re invited to join new friends and familiar faces at Craft Together 🎨! \n\nJoin us at The Bulla Center  (301 West Jones St\, Raleigh NC) for an afternoon of craft and fellowship. All supplies are provided. \nWhat to expect: \n1.  We first gather around tables and introduce ourselves. We then ask a get-to-know-you “This or That” question\, such as “Do you like Salty or Savory?” or “Do you prefer the mountains or the beach?”🤔 \n2. Next\, we review the craft we are making for the day. ✅ \n3. We craft together\, following instructions\, but still putting our own spin on it. \n4. We present our designs\, and talk about them. \n5. We clean up together and chat about the new things in our life! \n\nDon’t forget to sign up in advance!
URL:https://larchenc.org/event/craft-together-15-2-3/
LOCATION:The Bulla Center\, 301 W Jones St\, Raleigh\, 27603\, United States
CATEGORIES:Craft Together
ATTACH;FMTTYPE=image/png:https://larchenc.org/wp-content/uploads/2025/08/Craft-Together-e1732396392131.png
ORGANIZER;CN="L'Arche NC":MAILTO:info@larchenc.org
END:VEVENT
BEGIN:VEVENT
DTSTART;TZID=America/New_York:20251120T140000
DTEND;TZID=America/New_York:20251120T160000
DTSTAMP:20260423T131406
CREATED:20250916T171505Z
LAST-MODIFIED:20251120T160918Z
UID:10000624-1763647200-1763654400@larchenc.org
SUMMARY:CANCELED!!! Craft Together!
DESCRIPTION:UPDATE: TODAY’S EVENT IS CANCELED DUE TO STAFF ILLNESS. PLEASE SHARE THIS UPDATE WITH YOUR FRIENDS. \n\n\n\n\nYou’re invited to join new friends and familiar faces at Craft Together 🎨! \n\nJoin us at The Bulla Center  (301 West Jones St\, Raleigh NC) for an afternoon of craft and fellowship. All supplies are provided. \nWhat to expect: \n1.  We first gather around tables and introduce ourselves. We then ask a get-to-know-you “This or That” question\, such as “Do you like Salty or Savory?” or “Do you prefer the mountains or the beach?”🤔 \n2. Next\, we review the craft we are making for the day. ✅ \n3. We craft together\, following instructions\, but still putting our own spin on it. \n4. We present our designs\, and talk about them. \n5. We clean up together and chat about the new things in our life! \n\nDon’t forget to sign up in advance!
URL:https://larchenc.org/event/craft-together-15-2/
LOCATION:The Bulla Center\, 301 W Jones St\, Raleigh\, 27603\, United States
CATEGORIES:Craft Together
ATTACH;FMTTYPE=image/png:https://larchenc.org/wp-content/uploads/2025/08/Craft-Together-e1732396392131.png
ORGANIZER;CN="L'Arche NC":MAILTO:info@larchenc.org
END:VEVENT
BEGIN:VEVENT
DTSTART;TZID=America/New_York:20250918T140000
DTEND;TZID=America/New_York:20250918T160000
DTSTAMP:20260423T131406
CREATED:20250822T201744Z
LAST-MODIFIED:20250910T171409Z
UID:10000464-1758204000-1758211200@larchenc.org
SUMMARY:Craft Together!
DESCRIPTION:You’re invited to join new friends and familiar faces at Craft Together 🎨! \n\nJoin us at The Bulla Center  (301 West Jones St\, Raleigh NC) for an afternoon of craft and fellowship. All supplies are provided. \nWhat to expect: \n1.  We first gather around tables and introduce ourselves. We then ask a get-to-know-you “This or That” question\, such as “Do you like Salty or Savory?” or “Do you prefer the mountains or the beach?”🤔 \n2. Next\, we review the craft we are making for the day. ✅ \n3. We craft together\, following instructions\, but still putting our own spin on it. \n4. We present our designs\, and talk about them. \n5. We clean up together and chat about the new things in our life! \n\nDon’t forget to sign up in advance!
URL:https://larchenc.org/event/craft-together-15/
LOCATION:The Bulla Center\, 301 W Jones St\, Raleigh\, 27603\, United States
CATEGORIES:Craft Together
ATTACH;FMTTYPE=image/png:https://larchenc.org/wp-content/uploads/2025/08/Craft-Together-e1732396392131.png
ORGANIZER;CN="L'Arche NC":MAILTO:info@larchenc.org
END:VEVENT
BEGIN:VEVENT
DTSTART;TZID=America/New_York:20250821T140000
DTEND;TZID=America/New_York:20250821T160000
DTSTAMP:20260423T131406
CREATED:20250730T152246Z
LAST-MODIFIED:20250822T201955Z
UID:10000459-1755784800-1755792000@larchenc.org
SUMMARY:Craft Together!
DESCRIPTION:You’re invited to join new friends and familiar faces at Craft Together 🎨! All supplies are provided. CLICK HERE TO SIGN UP. \n\n\n\n\n\n\n\n\n\n\nJoin us at The Bulla Center  (301 West Jones St\, Raleigh NC) for an afternoon of craft and fellowship. \nWhat to expect: \n1.  We first gather around tables and introduce ourselves. We then ask a get-to-know-you “This or That” question\, such as “Do you like Salty or Savory?” or “Do you prefer the mountains or the beach?”🤔 \n2. Next\, we review the craft we are making for the day. ✅ \n3. We craft together\, following instructions\, but still putting our own spin on it. \n4. We present our designs\, and talk about them. \n5. We clean up together and chat about the new things in our life! \n\nDon’t forget to sign up in advance: https://forms.gle/5brusjQWbnQw878s8
URL:https://larchenc.org/event/craft-together-14/
LOCATION:The Bulla Center\, 301 W Jones St\, Raleigh\, 27603\, United States
CATEGORIES:Craft Together
ATTACH;FMTTYPE=image/png:https://larchenc.org/wp-content/uploads/2025/07/August-Events-Flyer-Instagram-Post-45.png
ORGANIZER;CN="L'Arche NC":MAILTO:info@larchenc.org
END:VEVENT
BEGIN:VEVENT
DTSTART;TZID=America/New_York:20240919T140000
DTEND;TZID=America/New_York:20240919T160000
DTSTAMP:20260423T131406
CREATED:20240717T174719Z
LAST-MODIFIED:20240825T201355Z
UID:10000341-1726754400-1726761600@larchenc.org
SUMMARY:Craft Together - DIY Magnets and Photo Holders
DESCRIPTION:You’re invited to join new friends and familiar faces at Craft Together 🎨! All supplies are provided. \nJoin us at The Bulla Center  (301 West Jones St\, Raleigh NC) for an afternoon of craft and fellowship. \nWhat to expect: \n1.  We first gather around tables and introduce ourselves. We then ask a get-to-know-you “This or That” question\, such as “Do you like Salty or Savory?” or “Do you prefer the mountains or the beach?”🤔 \n2. Next\, we review the craft we are making for the day. ✅ \n3. We craft together\, following instructions\, but still putting our own spin on it. \n4. We present our designs\, and talk about them. \n5. We clean up together and chat about the new things in our life! \nSign up here!
URL:https://larchenc.org/event/craft-together-sip-paint-2-2-2/
LOCATION:The Bulla Center\, 301 W Jones St\, Raleigh\, 27603\, United States
CATEGORIES:Community Event,Craft Together
ORGANIZER;CN="L'Arche NC":MAILTO:info@larchenc.org
END:VEVENT
BEGIN:VEVENT
DTSTART;TZID=America/New_York:20240718T140000
DTEND;TZID=America/New_York:20240718T160000
DTSTAMP:20260423T131406
CREATED:20240513T180508Z
LAST-MODIFIED:20240826T001727Z
UID:10000246-1721311200-1721318400@larchenc.org
SUMMARY:Craft Together: Coffee Filter Butterflies
DESCRIPTION:You’re invited to join new friends and familiar faces at Craft Together 🎨! All supplies are provided. \nJoin us at The Bulla Center  (301 West Jones St\, Raleigh NC) for an afternoon of craft and fellowship. This week\, we’ll be making beautiful coffee filter butterflies! \nWhat to expect: \n1.  We first gather around tables and introduce ourselves. We then ask a get-to-know-you “This or That” question\, such as “Do you like Salty or Savory?” or “Do you prefer the mountains or the beach?”🤔 \n2. Next\, we review the craft we are making for the day. ✅ \n3. We craft together\, following instructions\, but still putting our own spin on it. \n4. We present our designs\, and talk about them. \n5. We clean up together and chat about the new things in our life! \nSign up here!
URL:https://larchenc.org/event/craft-together-sip-paint-2/
LOCATION:The Bulla Center\, 301 W Jones St\, Raleigh\, 27603\, United States
CATEGORIES:Community Event,Craft Together
ORGANIZER;CN="L'Arche NC":MAILTO:info@larchenc.org
END:VEVENT
END:VCALENDAR