BEGIN:VCALENDAR
VERSION:2.0
PRODID:-//L’Arche North Carolina - ECPv6.15.20//NONSGML v1.0//EN
CALSCALE:GREGORIAN
METHOD:PUBLISH
X-ORIGINAL-URL:https://larchenc.org
X-WR-CALDESC:Events for L’Arche North Carolina
REFRESH-INTERVAL;VALUE=DURATION:PT1H
X-Robots-Tag:noindex
X-PUBLISHED-TTL:PT1H
BEGIN:VTIMEZONE
TZID:America/New_York
BEGIN:DAYLIGHT
TZOFFSETFROM:-0500
TZOFFSETTO:-0400
TZNAME:EDT
DTSTART:20250309T070000
END:DAYLIGHT
BEGIN:STANDARD
TZOFFSETFROM:-0400
TZOFFSETTO:-0500
TZNAME:EST
DTSTART:20251102T060000
END:STANDARD
BEGIN:DAYLIGHT
TZOFFSETFROM:-0500
TZOFFSETTO:-0400
TZNAME:EDT
DTSTART:20260308T070000
END:DAYLIGHT
BEGIN:STANDARD
TZOFFSETFROM:-0400
TZOFFSETTO:-0500
TZNAME:EST
DTSTART:20261101T060000
END:STANDARD
BEGIN:DAYLIGHT
TZOFFSETFROM:-0500
TZOFFSETTO:-0400
TZNAME:EDT
DTSTART:20270314T070000
END:DAYLIGHT
BEGIN:STANDARD
TZOFFSETFROM:-0400
TZOFFSETTO:-0500
TZNAME:EST
DTSTART:20271107T060000
END:STANDARD
END:VTIMEZONE
BEGIN:VEVENT
DTSTART;TZID=America/New_York:20260325T123000
DTEND;TZID=America/New_York:20260325T130000
DTSTAMP:20260423T184827
CREATED:20260209T182736Z
LAST-MODIFIED:20260209T182739Z
UID:10000644-1774441800-1774443600@larchenc.org
SUMMARY:Y’all Belong Here
DESCRIPTION:All are welcome to join L’Arche Atlanta and L’Arche North Carolina’s community of people with and without disabilities for our monthly 30-minute interfaith virtual prayer service on the third Wednesday of every month at 12:30pm EST. All religious and/or non-faith traditions are welcome at this gathering. \nEach gathering is about 30 minutes and may include: \n\nWelcome and passing of the peace/sharing hello\nSomething to reflect on\, such as a reading or video\nIndividual reflection\nSharing with small group\nClosing with prayers (community joys & concerns)\n\nHow to Connect \n\nJoin Zoom Meeting\nhttps://us02web.zoom.us/j/88948314502?pwd=IE2FZceH0N7L7nYqMsn7Xmd4azZ4ls.1 \nMeeting ID: 889 4831 4502\nPasscode: 817032 \n\nOne tap mobile\n+13092053325\,\,88948314502#\,\,\,\,*817032# US\n+13126266799\,\,88948314502#\,\,\,\,*817032# US (Chicago)
URL:https://larchenc.org/event/yall-belong-here-9-2-2-2-3-2/2026-03-25/
LOCATION:Online: Zoom
CATEGORIES:Community Event,Y'all Belong Here
ATTACH;FMTTYPE=image/png:https://larchenc.org/wp-content/uploads/2025/08/Together-Series-Logos-7.png
ORGANIZER;CN="L'Arche NC":MAILTO:info@larchenc.org
END:VEVENT
BEGIN:VEVENT
DTSTART;TZID=America/New_York:20260325T173000
DTEND;TZID=America/New_York:20260325T193000
DTSTAMP:20260423T184827
CREATED:20260316T183147Z
LAST-MODIFIED:20260316T183147Z
UID:10000652-1774459800-1774467000@larchenc.org
SUMMARY:Stations of the Cross with Dinner
DESCRIPTION:This Lent\, join us for Disability Justice Stations of the Cross — a powerful prayer experience that reflects on Jesus’ journey to the cross alongside the experiences\, struggles\, and dignity of people with disabilities. \nTwo ways to participate:\nIn Person | March 25 | Duke Memorial UMC\, 504 W. Chapel Hill St.\, Durham 27701\n5:30 pm – Dinner\n6:30 pm – Stations of the Cross \n*no need to register in advance \nOnline via Zoom\nMarch 27 | 12:30–1:30 pm EST \nWritten by Duke Divinity alumna Tatum Tricarico and led by Tatum & friends\, this gathering invites us to pray\, reflect\, and imagine a more inclusive and just world together.\nAll are welcome. \nRegister in advance for the Zoom on March 27: https://duke.qualtrics.com/jfe/form/SV_24bizYKro376n3whttps://duke.qualtrics.com/jfe/form/SV_24bizYKro376n3w
URL:https://larchenc.org/event/stations-of-the-cross-with-dinner/
LOCATION:Duke Memorial United Methodist Church\, 504 W Chapel Hill St\, Durham\, NC\, 27701\, United States
ORGANIZER;CN="L'Arche NC":MAILTO:info@larchenc.org
END:VEVENT
END:VCALENDAR