BEGIN:VCALENDAR
VERSION:2.0
PRODID:-//L’Arche North Carolina - ECPv6.15.20//NONSGML v1.0//EN
CALSCALE:GREGORIAN
METHOD:PUBLISH
X-WR-CALNAME:L’Arche North Carolina
X-ORIGINAL-URL:https://larchenc.org
X-WR-CALDESC:Events for L’Arche North Carolina
REFRESH-INTERVAL;VALUE=DURATION:PT1H
X-Robots-Tag:noindex
X-PUBLISHED-TTL:PT1H
BEGIN:VTIMEZONE
TZID:America/New_York
BEGIN:DAYLIGHT
TZOFFSETFROM:-0500
TZOFFSETTO:-0400
TZNAME:EDT
DTSTART:20250309T070000
END:DAYLIGHT
BEGIN:STANDARD
TZOFFSETFROM:-0400
TZOFFSETTO:-0500
TZNAME:EST
DTSTART:20251102T060000
END:STANDARD
BEGIN:DAYLIGHT
TZOFFSETFROM:-0500
TZOFFSETTO:-0400
TZNAME:EDT
DTSTART:20260308T070000
END:DAYLIGHT
BEGIN:STANDARD
TZOFFSETFROM:-0400
TZOFFSETTO:-0500
TZNAME:EST
DTSTART:20261101T060000
END:STANDARD
BEGIN:DAYLIGHT
TZOFFSETFROM:-0500
TZOFFSETTO:-0400
TZNAME:EDT
DTSTART:20270314T070000
END:DAYLIGHT
BEGIN:STANDARD
TZOFFSETFROM:-0400
TZOFFSETTO:-0500
TZNAME:EST
DTSTART:20271107T060000
END:STANDARD
END:VTIMEZONE
BEGIN:VEVENT
DTSTART;TZID=America/New_York:20260307T113000
DTEND;TZID=America/New_York:20260307T140000
DTSTAMP:20260423T200226
CREATED:20260223T132114Z
LAST-MODIFIED:20260223T132114Z
UID:10000647-1772883000-1772892000@larchenc.org
SUMMARY:Chili Cook-Off!
DESCRIPTION:Get ready for a spicy afternoon of community\, fun\, and belonging 🌶️ \nGet your tickets by HERE. \nL’Arche NC & Duke Memorial Chili Cook-Off\nMarch 7 | Duke Memorial UMC\n504 W. Chapel Hill Street\, Durham\, NC 27701 \nJoin L’Arche North Carolina and Duke Memorial for an evening that’s about much more than chili (though the chili will be very good). All proceeds from the Chili Cook-Off will support the Friendship Moving Forward Campaign\, helping L’Arche NC purchase the Friendship Houses in Durham and expand housing\, friendship\, and belonging for adults with and without intellectual and developmental disabilities. \nWant to compete? To enter the Chili Cook-Off\, please email info@larchenc.org. Participation is limited to the first 20 individuals who sign up. Three awards will be given: \n\nBest Overall Chili\nMost Unique Chili\nBest Vegetarian Chili\n\nYour ticket includes a full bowl of chili\, the opportunity to sample the competition\, and the chance to cast your vote. \nNot bringing chili? Come eat\, play\, and connect. This gathering is more than a fundraiser—it’s an invitation to experience the joy\, laughter\, and radical hospitality that define L’Arche. A dedicated space will be set up for games and fun\, making it a welcoming night for all ages. \nCome for the chili. Stay for the belonging. \nGet your tickets here
URL:https://larchenc.org/event/chili-cook-off/
LOCATION:Duke Memorial United Methodist Church\, 504 W Chapel Hill St\, Durham\, NC\, 27701\, United States
CATEGORIES:Fundraiser
ORGANIZER;CN="L'Arche NC":MAILTO:info@larchenc.org
END:VEVENT
END:VCALENDAR