BEGIN:VCALENDAR
VERSION:2.0
PRODID:-//L’Arche North Carolina - ECPv6.15.20//NONSGML v1.0//EN
CALSCALE:GREGORIAN
METHOD:PUBLISH
X-WR-CALNAME:L’Arche North Carolina
X-ORIGINAL-URL:https://larchenc.org
X-WR-CALDESC:Events for L’Arche North Carolina
REFRESH-INTERVAL;VALUE=DURATION:PT1H
X-Robots-Tag:noindex
X-PUBLISHED-TTL:PT1H
BEGIN:VTIMEZONE
TZID:America/New_York
BEGIN:DAYLIGHT
TZOFFSETFROM:-0500
TZOFFSETTO:-0400
TZNAME:EDT
DTSTART:20230312T070000
END:DAYLIGHT
BEGIN:STANDARD
TZOFFSETFROM:-0400
TZOFFSETTO:-0500
TZNAME:EST
DTSTART:20231105T060000
END:STANDARD
BEGIN:DAYLIGHT
TZOFFSETFROM:-0500
TZOFFSETTO:-0400
TZNAME:EDT
DTSTART:20240310T070000
END:DAYLIGHT
BEGIN:STANDARD
TZOFFSETFROM:-0400
TZOFFSETTO:-0500
TZNAME:EST
DTSTART:20241103T060000
END:STANDARD
BEGIN:DAYLIGHT
TZOFFSETFROM:-0500
TZOFFSETTO:-0400
TZNAME:EDT
DTSTART:20250309T070000
END:DAYLIGHT
BEGIN:STANDARD
TZOFFSETFROM:-0400
TZOFFSETTO:-0500
TZNAME:EST
DTSTART:20251102T060000
END:STANDARD
END:VTIMEZONE
BEGIN:VEVENT
DTSTART;TZID=America/New_York:20240418T140000
DTEND;TZID=America/New_York:20240418T160000
DTSTAMP:20260425T100950
CREATED:20240311T003253Z
LAST-MODIFIED:20240311T141258Z
UID:10000221-1713448800-1713456000@larchenc.org
SUMMARY:Craft Together
DESCRIPTION:You’re invited to join new friends and familiar faces at Craft Together 🎨! All supplies are provided. \nJoin us at The Bulla Center  (301 West Jones St\, Raleigh NC) for an afternoon of craft and fellowship. \nWhat to expect: \n1.  We first gather around tables and introduce ourselves. We then ask a get-to-know-you “This or That” question\, such as “Do you like Salty or Savory?” or “Do you prefer the mountains or the beach?”🤔 \n2. Next\, we review the craft we are making for the day. ✅ \n3. We craft together\, following instructions\, but still putting our own spin on it. \n4. We present our designs\, and talk about them. \n5. We clean up together and chat about the new things in our life! \nSign up form here!\n \nCurrently\, our events and programs are free. If you’d like to donate to make these opportunities more sustainable and available\, please visit larchenc.org/give. We greatly appreciate your contribution!
URL:https://larchenc.org/event/craft-together-3/
CATEGORIES:Community Event
ATTACH;FMTTYPE=image/png:https://larchenc.org/wp-content/uploads/2024/03/default-event-images-for-website7.png
ORGANIZER;CN="L'Arche NC":MAILTO:info@larchenc.org
END:VEVENT
BEGIN:VEVENT
DTSTART;TZID=America/New_York:20240418T193000
DTEND;TZID=America/New_York:20240418T193000
DTSTAMP:20260425T100950
CREATED:20240317T144500Z
LAST-MODIFIED:20240417T171839Z
UID:10000223-1713468600-1713468600@larchenc.org
SUMMARY:L'Arche USA Talent Spectacular
DESCRIPTION:Mark your calendar for the L’Arche Talent Spectacular happening on April 18th at 7:30 p.m. Eastern / 4:30 p.m. Pacific. \nHosed by L’Arche USA\, this extraordinary showcase highlights what L’Arche does best: recognizing the unique gifts of every individual! \nThe talent show will be hosted on Zoom\, meaning everyone from all across the country can view and participate! So if you have a talent you’d like to share\, or just want to watch the show\, you’re welcome to come! \nTo watch the show\, join here! \nWe’d love to have our friends sign up and represent L’Arche NC! \nLArche-Talent-Spectacular-2024-IN.pdf
URL:https://larchenc.org/event/larche-talent-spectacular/
CATEGORIES:Community Event
ATTACH;FMTTYPE=image/png:https://larchenc.org/wp-content/uploads/2024/03/Untitled-design13.png
END:VEVENT
END:VCALENDAR