BEGIN:VCALENDAR
VERSION:2.0
PRODID:-//L’Arche North Carolina - ECPv6.15.20//NONSGML v1.0//EN
CALSCALE:GREGORIAN
METHOD:PUBLISH
X-ORIGINAL-URL:https://larchenc.org
X-WR-CALDESC:Events for L’Arche North Carolina
REFRESH-INTERVAL;VALUE=DURATION:PT1H
X-Robots-Tag:noindex
X-PUBLISHED-TTL:PT1H
BEGIN:VTIMEZONE
TZID:America/New_York
BEGIN:DAYLIGHT
TZOFFSETFROM:-0500
TZOFFSETTO:-0400
TZNAME:EDT
DTSTART:20230312T070000
END:DAYLIGHT
BEGIN:STANDARD
TZOFFSETFROM:-0400
TZOFFSETTO:-0500
TZNAME:EST
DTSTART:20231105T060000
END:STANDARD
BEGIN:DAYLIGHT
TZOFFSETFROM:-0500
TZOFFSETTO:-0400
TZNAME:EDT
DTSTART:20240310T070000
END:DAYLIGHT
BEGIN:STANDARD
TZOFFSETFROM:-0400
TZOFFSETTO:-0500
TZNAME:EST
DTSTART:20241103T060000
END:STANDARD
BEGIN:DAYLIGHT
TZOFFSETFROM:-0500
TZOFFSETTO:-0400
TZNAME:EDT
DTSTART:20250309T070000
END:DAYLIGHT
BEGIN:STANDARD
TZOFFSETFROM:-0400
TZOFFSETTO:-0500
TZNAME:EST
DTSTART:20251102T060000
END:STANDARD
END:VTIMEZONE
BEGIN:VEVENT
DTSTART;TZID=America/New_York:20240409T140000
DTEND;TZID=America/New_York:20240409T150000
DTSTAMP:20260425T114800
CREATED:20240311T002826Z
LAST-MODIFIED:20240311T141206Z
UID:10000220-1712671200-1712674800@larchenc.org
SUMMARY:Jam Together
DESCRIPTION:After seeing the success of Holiday Karaoke and hearing from multiple participants about the importance of music\, L’Arche NC is proud to present our newest event: Jam Together! 🎶 \nLed by Chris Hendricks and Lee Anderson\, Jam Together focuses on creating and appreciating sound\, whether it’s singing together or playing instruments! So whether you’re a maker of music or just an appreciator – this event is for you! \nJoin us\, April 9th\, from 2-3PM\, at the Bulla Center – 301 West Jones St\, Raleigh NC. \nSign up form here!
URL:https://larchenc.org/event/jam-together/
CATEGORIES:Community Event
ATTACH;FMTTYPE=image/png:https://larchenc.org/wp-content/uploads/2024/03/default-event-images-for-website5.png
ORGANIZER;CN="L'Arche NC":MAILTO:info@larchenc.org
END:VEVENT
END:VCALENDAR