BEGIN:VCALENDAR
VERSION:2.0
PRODID:-//L’Arche North Carolina - ECPv6.15.20//NONSGML v1.0//EN
CALSCALE:GREGORIAN
METHOD:PUBLISH
X-ORIGINAL-URL:https://larchenc.org
X-WR-CALDESC:Events for L’Arche North Carolina
REFRESH-INTERVAL;VALUE=DURATION:PT1H
X-Robots-Tag:noindex
X-PUBLISHED-TTL:PT1H
BEGIN:VTIMEZONE
TZID:America/New_York
BEGIN:DAYLIGHT
TZOFFSETFROM:-0500
TZOFFSETTO:-0400
TZNAME:EDT
DTSTART:20230312T070000
END:DAYLIGHT
BEGIN:STANDARD
TZOFFSETFROM:-0400
TZOFFSETTO:-0500
TZNAME:EST
DTSTART:20231105T060000
END:STANDARD
BEGIN:DAYLIGHT
TZOFFSETFROM:-0500
TZOFFSETTO:-0400
TZNAME:EDT
DTSTART:20240310T070000
END:DAYLIGHT
BEGIN:STANDARD
TZOFFSETFROM:-0400
TZOFFSETTO:-0500
TZNAME:EST
DTSTART:20241103T060000
END:STANDARD
BEGIN:DAYLIGHT
TZOFFSETFROM:-0500
TZOFFSETTO:-0400
TZNAME:EDT
DTSTART:20250309T070000
END:DAYLIGHT
BEGIN:STANDARD
TZOFFSETFROM:-0400
TZOFFSETTO:-0500
TZNAME:EST
DTSTART:20251102T060000
END:STANDARD
END:VTIMEZONE
BEGIN:VEVENT
DTSTART;TZID=America/New_York:20240321T140000
DTEND;TZID=America/New_York:20240321T160000
DTSTAMP:20260425T114801
CREATED:20240212T174258Z
LAST-MODIFIED:20240221T144351Z
UID:10000216-1711029600-1711036800@larchenc.org
SUMMARY:Craft Together
DESCRIPTION:You’re invited to join new friends and familiar faces at Craft Together 🎨! All supplies are provided. We’ll be honoring the Muslim holidays of Ramadan & Eid\, with a craft to match. Henna is the art of drawing on the skin with a temporary dye. While we will NOT be dying our skin today\, we will be creating scratch art that resembles henna patterns\, using our own hands as the templates (or whatever else they’d like to use)! \nJoin us at The Bulla Center  (301 West Jones St\, Raleigh NC) for an afternoon of craft and fellowship. \nWhat to expect: \n1.  We first gather around tables and introduce ourselves. We then ask a get-to-know-you “This or That” question\, such as “Do you like Salty or Savory?” or “Do you prefer the mountains or the beach?”🤔 \n2. Next\, we review the craft we are making for the day. ✅ There will also be a short explanation about henna – what it is\, and why it’s significant! \n3. We craft together\, following instructions\, but still putting our own spin on it. \n4. We present our designs\, and talk about them. \n5. We clean up together and chat about the new things in our life! \nSign up here!
URL:https://larchenc.org/event/craft-together-%f0%9f%8e%a8-4/
LOCATION:The Bulla Center\, 301 W Jones St\, Raleigh\, 27603\, United States
CATEGORIES:Community Event
ATTACH;FMTTYPE=image/png:https://larchenc.org/wp-content/uploads/2024/02/March-Images8.png
ORGANIZER;CN="L'Arche NC":MAILTO:info@larchenc.org
END:VEVENT
END:VCALENDAR