BEGIN:VCALENDAR
VERSION:2.0
PRODID:-//L’Arche North Carolina - ECPv6.15.20//NONSGML v1.0//EN
CALSCALE:GREGORIAN
METHOD:PUBLISH
X-ORIGINAL-URL:https://larchenc.org
X-WR-CALDESC:Events for L’Arche North Carolina
REFRESH-INTERVAL;VALUE=DURATION:PT1H
X-Robots-Tag:noindex
X-PUBLISHED-TTL:PT1H
BEGIN:VTIMEZONE
TZID:America/New_York
BEGIN:DAYLIGHT
TZOFFSETFROM:-0500
TZOFFSETTO:-0400
TZNAME:EDT
DTSTART:20230312T070000
END:DAYLIGHT
BEGIN:STANDARD
TZOFFSETFROM:-0400
TZOFFSETTO:-0500
TZNAME:EST
DTSTART:20231105T060000
END:STANDARD
BEGIN:DAYLIGHT
TZOFFSETFROM:-0500
TZOFFSETTO:-0400
TZNAME:EDT
DTSTART:20240310T070000
END:DAYLIGHT
BEGIN:STANDARD
TZOFFSETFROM:-0400
TZOFFSETTO:-0500
TZNAME:EST
DTSTART:20241103T060000
END:STANDARD
BEGIN:DAYLIGHT
TZOFFSETFROM:-0500
TZOFFSETTO:-0400
TZNAME:EDT
DTSTART:20250309T070000
END:DAYLIGHT
BEGIN:STANDARD
TZOFFSETFROM:-0400
TZOFFSETTO:-0500
TZNAME:EST
DTSTART:20251102T060000
END:STANDARD
END:VTIMEZONE
BEGIN:VEVENT
DTSTART;TZID=America/New_York:20240228T183000
DTEND;TZID=America/New_York:20240228T200000
DTSTAMP:20260425T114810
CREATED:20240124T190549Z
LAST-MODIFIED:20240229T003622Z
UID:10000206-1709145000-1709150400@larchenc.org
SUMMARY:Disability & Dating 💞
DESCRIPTION:Join us for L’Arche NC’s virtual panel discussion on Disability And Dating 💞\, where we talk about dating and relationships\, especially for people with intellectual and developmental disabilities. \nHear stories from a diverse group of experts and individuals who will share their experiences\, both good and challenging\, in navigating relationships. \nWe’ll chat about breaking down barriers\, making connections\, and what love has looked like in the lives of several Disabled people. \nWhether you are Disabled and looking for love\, a family member seeking to learn\, or just curious\, this event aims to start conversations\, challenge stereotypes\, and encourage more inclusive dating and relationships. Let’s celebrate love stories in all their diversity\, where everyone has a chance to make meaningful connections. \nRegister on Zoom here: https://us06web.zoom.us/meeting/register/tZYqf-CtrT0uE9AI5NQnu8pS1sXUl8UH5la3#/registration \nEvent takes place February 28th from 6:30-7:30PM.
URL:https://larchenc.org/event/disability-dating/
LOCATION:Online: Zoom
CATEGORIES:Community Event
ATTACH;FMTTYPE=image/png:https://larchenc.org/wp-content/uploads/2024/01/February-Website-Images4.png
ORGANIZER;CN="L'Arche NC":MAILTO:info@larchenc.org
END:VEVENT
END:VCALENDAR