BEGIN:VCALENDAR
VERSION:2.0
PRODID:-//L’Arche North Carolina - ECPv6.15.20//NONSGML v1.0//EN
CALSCALE:GREGORIAN
METHOD:PUBLISH
X-WR-CALNAME:L’Arche North Carolina
X-ORIGINAL-URL:https://larchenc.org
X-WR-CALDESC:Events for L’Arche North Carolina
REFRESH-INTERVAL;VALUE=DURATION:PT1H
X-Robots-Tag:noindex
X-PUBLISHED-TTL:PT1H
BEGIN:VTIMEZONE
TZID:America/New_York
BEGIN:DAYLIGHT
TZOFFSETFROM:-0500
TZOFFSETTO:-0400
TZNAME:EDT
DTSTART:20230312T070000
END:DAYLIGHT
BEGIN:STANDARD
TZOFFSETFROM:-0400
TZOFFSETTO:-0500
TZNAME:EST
DTSTART:20231105T060000
END:STANDARD
BEGIN:DAYLIGHT
TZOFFSETFROM:-0500
TZOFFSETTO:-0400
TZNAME:EDT
DTSTART:20240310T070000
END:DAYLIGHT
BEGIN:STANDARD
TZOFFSETFROM:-0400
TZOFFSETTO:-0500
TZNAME:EST
DTSTART:20241103T060000
END:STANDARD
BEGIN:DAYLIGHT
TZOFFSETFROM:-0500
TZOFFSETTO:-0400
TZNAME:EDT
DTSTART:20250309T070000
END:DAYLIGHT
BEGIN:STANDARD
TZOFFSETFROM:-0400
TZOFFSETTO:-0500
TZNAME:EST
DTSTART:20251102T060000
END:STANDARD
END:VTIMEZONE
BEGIN:VEVENT
DTSTART;TZID=America/New_York:20240215T140000
DTEND;TZID=America/New_York:20240215T150000
DTSTAMP:20260425T174108
CREATED:20240117T201404Z
LAST-MODIFIED:20240215T165902Z
UID:10000204-1708005600-1708009200@larchenc.org
SUMMARY:Play Together! 🎵
DESCRIPTION:You’re invited to join new friends and familiar faces at Play Together. This week\, we will be playing another round of Name That Tune! 🎶🎉 \nThis event is a VIRTUAL event! This means you can either join virtually through Zoom. \nWhat to expect during this afternoon time of fun and fellowship: \n1. We first take some time to introduce ourselves. \n2. Next\, we go over the rules of the game. ✅ \n3. Then we play the game together\, completing round after round\, until a winner is announced! 🎉 \nWe ask everyone to please RSVP so that we know who’s coming to the event. \nSign up here! \n\nHow to connect:\nZoom link: https://zoom.us/j/97670163954?pwd=S2tRREhnY2IxSWRXUmdDQndOdHRBQT09 \nMeeting ID: 976 7016 3954 \nPasscode: 336641 \nOne tap mobile\n+13017158592\,\,97670163954#\,\,\,\,*336641# US (Washington DC)\n+13052241968\,\,97670163954#\,\,\,\,*336641# US \n  \n\nCurrently\, our events and programs are free. If you’d like to donate to make these opportunities more sustainable and available\, please visit larchenc.org/give. We greatly appreciate your contribution!
URL:https://larchenc.org/event/play-together-2/
CATEGORIES:Community Event
ATTACH;FMTTYPE=image/png:https://larchenc.org/wp-content/uploads/2023/10/November-Events-3.png
ORGANIZER;CN="L'Arche NC":MAILTO:info@larchenc.org
END:VEVENT
END:VCALENDAR