BEGIN:VCALENDAR
VERSION:2.0
PRODID:-//L’Arche North Carolina - ECPv6.15.20//NONSGML v1.0//EN
CALSCALE:GREGORIAN
METHOD:PUBLISH
X-ORIGINAL-URL:https://larchenc.org
X-WR-CALDESC:Events for L’Arche North Carolina
REFRESH-INTERVAL;VALUE=DURATION:PT1H
X-Robots-Tag:noindex
X-PUBLISHED-TTL:PT1H
BEGIN:VTIMEZONE
TZID:America/New_York
BEGIN:DAYLIGHT
TZOFFSETFROM:-0500
TZOFFSETTO:-0400
TZNAME:EDT
DTSTART:20230312T070000
END:DAYLIGHT
BEGIN:STANDARD
TZOFFSETFROM:-0400
TZOFFSETTO:-0500
TZNAME:EST
DTSTART:20231105T060000
END:STANDARD
BEGIN:DAYLIGHT
TZOFFSETFROM:-0500
TZOFFSETTO:-0400
TZNAME:EDT
DTSTART:20240310T070000
END:DAYLIGHT
BEGIN:STANDARD
TZOFFSETFROM:-0400
TZOFFSETTO:-0500
TZNAME:EST
DTSTART:20241103T060000
END:STANDARD
BEGIN:DAYLIGHT
TZOFFSETFROM:-0500
TZOFFSETTO:-0400
TZNAME:EDT
DTSTART:20250309T070000
END:DAYLIGHT
BEGIN:STANDARD
TZOFFSETFROM:-0400
TZOFFSETTO:-0500
TZNAME:EST
DTSTART:20251102T060000
END:STANDARD
END:VTIMEZONE
BEGIN:VEVENT
DTSTART;TZID=America/New_York:20240213T140000
DTEND;TZID=America/New_York:20240213T160000
DTSTAMP:20260425T174054
CREATED:20240110T182553Z
LAST-MODIFIED:20240110T182553Z
UID:10000202-1707832800-1707840000@larchenc.org
SUMMARY:Craft Together ✂️
DESCRIPTION:You’re invited to join new friends and familiar faces at Craft Together 🎨! This week\, we will be creating a bouquet of felt flowers to celebrate Valentines Day! All supplies are provided. \nWhat to expect during this afternoon time of craft and fellowship: \n1.  We first gather around tables and introduce ourselves. We then ask a get-to-know-you “This or That” question\, such as “Do you like Salty or Savory?” or “Do you prefer the mountains or the beach?”🤔 \n2. Next\, we review the craft we are making for the day. ✅ \n3. We craft together. There are multiple flower options that can be mixed-and-matched\, so feel free to get creative! \n4. We wrap our flowers in paper and tie it together with a ribbon. 🎀 \n5. We clean up together and chat about our loved ones! \nSign up here! \nCurrently\, our events and programs are free. If you’d like to donate to make these opportunities more sustainable and available\, please visit larchenc.org/give. We greatly appreciate your contribution!
URL:https://larchenc.org/event/craft-together-%e2%9c%82%ef%b8%8f/
LOCATION:The Bulla Center\, 301 W Jones St\, Raleigh\, 27603\, United States
CATEGORIES:Community Event
ATTACH;FMTTYPE=image/png:https://larchenc.org/wp-content/uploads/2024/01/February-Website-Images3.png
ORGANIZER;CN="L'Arche NC":MAILTO:info@larchenc.org
END:VEVENT
END:VCALENDAR