BEGIN:VCALENDAR
VERSION:2.0
PRODID:-//L’Arche North Carolina - ECPv6.15.20//NONSGML v1.0//EN
CALSCALE:GREGORIAN
METHOD:PUBLISH
X-WR-CALNAME:L’Arche North Carolina
X-ORIGINAL-URL:https://larchenc.org
X-WR-CALDESC:Events for L’Arche North Carolina
REFRESH-INTERVAL;VALUE=DURATION:PT1H
X-Robots-Tag:noindex
X-PUBLISHED-TTL:PT1H
BEGIN:VTIMEZONE
TZID:America/New_York
BEGIN:DAYLIGHT
TZOFFSETFROM:-0500
TZOFFSETTO:-0400
TZNAME:EDT
DTSTART:20230312T070000
END:DAYLIGHT
BEGIN:STANDARD
TZOFFSETFROM:-0400
TZOFFSETTO:-0500
TZNAME:EST
DTSTART:20231105T060000
END:STANDARD
BEGIN:DAYLIGHT
TZOFFSETFROM:-0500
TZOFFSETTO:-0400
TZNAME:EDT
DTSTART:20240310T070000
END:DAYLIGHT
BEGIN:STANDARD
TZOFFSETFROM:-0400
TZOFFSETTO:-0500
TZNAME:EST
DTSTART:20241103T060000
END:STANDARD
BEGIN:DAYLIGHT
TZOFFSETFROM:-0500
TZOFFSETTO:-0400
TZNAME:EDT
DTSTART:20250309T070000
END:DAYLIGHT
BEGIN:STANDARD
TZOFFSETFROM:-0400
TZOFFSETTO:-0500
TZNAME:EST
DTSTART:20251102T060000
END:STANDARD
END:VTIMEZONE
BEGIN:VEVENT
DTSTART;TZID=America/New_York:20240204T150000
DTEND;TZID=America/New_York:20240204T163000
DTSTAMP:20260425T174109
CREATED:20240110T173941Z
LAST-MODIFIED:20240110T174022Z
UID:10000201-1707058800-1707064200@larchenc.org
SUMMARY:Sunday Meet Up at the Nasher!
DESCRIPTION:The Nasher Museum of Art welcomes you! 🎊 \nDiana Peña\, who works for the museum\, has kindly offered L’Arche NC a GUIDED TOUR of the museum! From the art to the architecture\, the Nasher is something to behold! Bring your friends\, bring your family – this is not an occasion to be missed! \nTaking place February 4th from 3-4:30 PM\, this tour is the perfect way to learn about the art world around you\, from the past to the future. One of the exhibits\, “Act as If You Are a Curator\,” is an AI generated exhibition! \nNote: There is limited space available on the tour\, so sign up fast! Because the tour is guided\, it is strongly advised that you come on time\, lest you be left behind! \nThe Nasher Museum is located at 2001 Campus Dr\, Durham\, NC 27705. \nSign up here!
URL:https://larchenc.org/event/sunday-meet-up/
LOCATION:The Nasher Museum of Art\, 2001 Campus Drive
CATEGORIES:Community Event
ATTACH;FMTTYPE=image/png:https://larchenc.org/wp-content/uploads/2024/01/February-Website-Images2.png
ORGANIZER;CN="L'Arche NC":MAILTO:info@larchenc.org
END:VEVENT
END:VCALENDAR