BEGIN:VCALENDAR
VERSION:2.0
PRODID:-//L’Arche North Carolina - ECPv6.15.20//NONSGML v1.0//EN
CALSCALE:GREGORIAN
METHOD:PUBLISH
X-ORIGINAL-URL:https://larchenc.org
X-WR-CALDESC:Events for L’Arche North Carolina
REFRESH-INTERVAL;VALUE=DURATION:PT1H
X-Robots-Tag:noindex
X-PUBLISHED-TTL:PT1H
BEGIN:VTIMEZONE
TZID:America/New_York
BEGIN:DAYLIGHT
TZOFFSETFROM:-0500
TZOFFSETTO:-0400
TZNAME:EDT
DTSTART:20220313T070000
END:DAYLIGHT
BEGIN:STANDARD
TZOFFSETFROM:-0400
TZOFFSETTO:-0500
TZNAME:EST
DTSTART:20221106T060000
END:STANDARD
BEGIN:DAYLIGHT
TZOFFSETFROM:-0500
TZOFFSETTO:-0400
TZNAME:EDT
DTSTART:20230312T070000
END:DAYLIGHT
BEGIN:STANDARD
TZOFFSETFROM:-0400
TZOFFSETTO:-0500
TZNAME:EST
DTSTART:20231105T060000
END:STANDARD
BEGIN:DAYLIGHT
TZOFFSETFROM:-0500
TZOFFSETTO:-0400
TZNAME:EDT
DTSTART:20240310T070000
END:DAYLIGHT
BEGIN:STANDARD
TZOFFSETFROM:-0400
TZOFFSETTO:-0500
TZNAME:EST
DTSTART:20241103T060000
END:STANDARD
END:VTIMEZONE
BEGIN:VEVENT
DTSTART;TZID=America/New_York:20231208T180000
DTEND;TZID=America/New_York:20231208T200000
DTSTAMP:20260425T203846
CREATED:20231109T201500Z
LAST-MODIFIED:20231130T152210Z
UID:10000180-1702058400-1702065600@larchenc.org
SUMMARY:Holiday Karaoke 🎤🎶
DESCRIPTION:Come sing along with L’Arche NC for our annual Holiday Karaoke! ❄️🎤 \nRanked as one of L’arche’s best events by management\, Holiday Karaoke is an annual delight! \nSo join us this year on December 8th\, from 6-8pm at Edenton Street UMC. Together\, we’ll sing songs. For the people who want to shine solo 🌟 there will be karoke style singing\, and for those who’d rather sing along with the crowd\, there are songs where everybody sings together! 🤝 \nLive music will be provided by the in-house Edenton Street UMC band! 🎸 \nWe’ll be in the Kerr Hall at Edenton Street United Methodist Church: 228 W Edenton St\, Raleigh\, NC 27603 \nWe invite everyone of all abilities to join! No singing experience necessary. \nSign up here!
URL:https://larchenc.org/event/holiday-karaoke-%f0%9f%8e%a4%f0%9f%8e%b6/
LOCATION:Edenton Street United Methodist Church\, 228 W Edenton St\, Raleigh\, NC\, 27603
ATTACH;FMTTYPE=image/png:https://larchenc.org/wp-content/uploads/2023/11/December-Events-4.png
ORGANIZER;CN="L'Arche NC":MAILTO:info@larchenc.org
END:VEVENT
END:VCALENDAR