BEGIN:VCALENDAR
VERSION:2.0
PRODID:-//L’Arche North Carolina - ECPv6.15.20//NONSGML v1.0//EN
CALSCALE:GREGORIAN
METHOD:PUBLISH
X-ORIGINAL-URL:https://larchenc.org
X-WR-CALDESC:Events for L’Arche North Carolina
REFRESH-INTERVAL;VALUE=DURATION:PT1H
X-Robots-Tag:noindex
X-PUBLISHED-TTL:PT1H
BEGIN:VTIMEZONE
TZID:America/New_York
BEGIN:DAYLIGHT
TZOFFSETFROM:-0500
TZOFFSETTO:-0400
TZNAME:EDT
DTSTART:20220313T070000
END:DAYLIGHT
BEGIN:STANDARD
TZOFFSETFROM:-0400
TZOFFSETTO:-0500
TZNAME:EST
DTSTART:20221106T060000
END:STANDARD
BEGIN:DAYLIGHT
TZOFFSETFROM:-0500
TZOFFSETTO:-0400
TZNAME:EDT
DTSTART:20230312T070000
END:DAYLIGHT
BEGIN:STANDARD
TZOFFSETFROM:-0400
TZOFFSETTO:-0500
TZNAME:EST
DTSTART:20231105T060000
END:STANDARD
BEGIN:DAYLIGHT
TZOFFSETFROM:-0500
TZOFFSETTO:-0400
TZNAME:EDT
DTSTART:20240310T070000
END:DAYLIGHT
BEGIN:STANDARD
TZOFFSETFROM:-0400
TZOFFSETTO:-0500
TZNAME:EST
DTSTART:20241103T060000
END:STANDARD
END:VTIMEZONE
BEGIN:VEVENT
DTSTART;TZID=America/New_York:20231207T140000
DTEND;TZID=America/New_York:20231207T160000
DTSTAMP:20260425T203847
CREATED:20231109T140243Z
LAST-MODIFIED:20231114T213050Z
UID:10000176-1701957600-1701964800@larchenc.org
SUMMARY:Cook Together 🍽️
DESCRIPTION:You’re invited to join new friends and familiar faces at Cook Together 🍽️! This week\, we will be making sugar cookies. Ingredients and icing will be provided. \nWhat to expect during this afternoon time of food and fellowship: \n1.  We first gather around tables and introduce ourselves. We then ask a get-to-know-you “This or That” question\, such as “Do you like Salty or Savory?” or “Do you prefer the mountains or the beach?”🤔 \n2. Next\, we review the recipe we are making for the day. ✅ \n3. We create the recipe together in groups\, following the step-by-step directions 🔢(No cooking experience is needed to join us ). \n4. While the recipe bakes and cools\, we’ll play games together. \n5. We ice our treats\, then eat them! 😃 \n6. We clean up together and celebrate any exciting news! \nSign up here! \nCurrently\, our events and programs are free. If you’d like to donate to make these opportunities more sustainable and available\, please visit larchenc.org/give. We greatly appreciate your contribution!
URL:https://larchenc.org/event/cook-together-%f0%9f%8d%bd%ef%b8%8f-holiday-cookies/
LOCATION:The Bulla Center\, 301 W Jones St\, Raleigh\, 27603\, United States
CATEGORIES:Community Event
ATTACH;FMTTYPE=image/png:https://larchenc.org/wp-content/uploads/2023/11/December-Events-1.png
ORGANIZER;CN="L'Arche NC":MAILTO:info@larchenc.org
END:VEVENT
BEGIN:VEVENT
DTSTART;TZID=America/New_York:20231207T190000
DTEND;TZID=America/New_York:20231207T200000
DTSTAMP:20260425T203847
CREATED:20231019T172303Z
LAST-MODIFIED:20231106T190911Z
UID:10000169-1701975600-1701979200@larchenc.org
SUMMARY:Already and Not Yet: Disability and Advent Study
DESCRIPTION:Tatum Tricarico\, our Disability and Theology Intern ♿✝️\, is leading us through a four-week Disability Advent series! \nWe will meet on a weekly basis to reflect and converse with chosen pieces of scripture\, poetry\, and teachings at the intersection of disability and Advent theology. Each session will include the opportunity to learn about an important Disability Justice leader. \nEach meeting will be Hybrid: In-person at Duke Memorial UMC\, & Zoom. \nWhat to expect during this evening of prayer and fellowship: \n1. We first take some time to connect with each other\, and go over the day’s agenda. ✅ \n2. Next\, we reflect on chosen pieces of scripture\, poetry\, and teaching. 📜 \n3. Thirdly\, we converse on those pieces\, with participants breaking into two groups – those on Zoom\, “Zoomies\,” and those in-person\, “Roomies.” 💬 \n4. We report back on our thoughts\, and discuss them all together. \n5. We do a fifteen minute activity / embodied practice.🖌️ \nPlease RSVP! \nSign up here! \nCurrently\, our events and programs are free. If you’d like to donate to make these opportunities more sustainable and available\, please visit larchenc.org/give. We greatly appreciate your contribution!
URL:https://larchenc.org/event/already-and-not-yet-disability-and-advent-study/2023-12-07/
ATTACH;FMTTYPE=image/png:https://larchenc.org/wp-content/uploads/2023/10/November-Events-5.png
ORGANIZER;CN="L'Arche NC":MAILTO:info@larchenc.org
END:VEVENT
END:VCALENDAR